BEGIN:VCALENDAR
VERSION:2.0
PRODID:-//ChamberMaster//Event Calendar 2.0//EN
METHOD:PUBLISH
X-PUBLISHED-TTL:P3D
REFRESH-INTERVAL:P3D
CALSCALE:GREGORIAN
BEGIN:VEVENT
DTSTART:20250520T220000Z
DTEND:20250520T230000Z
X-MICROSOFT-CDO-ALLDAYEVENT:FALSE
SUMMARY:Ribbon Cutting | Composition Shop
DESCRIPTION:Join us in celebrating Composition Shop!\n\n\n\nAbout Composition Shop\n\nComposition Shop is an independent bookstore selling new titles\, stationery\, and a selection of chocolates.
X-ALT-DESC;FMTTYPE=text/html:Join us in celebrating Composition Shop!<br />\n<br />\n<strong>About Composition Shop</strong>\n<div color:="" font-feature-settings:="" font-kerning:="" font-optical-sizing:="" font-variation-settings:="" helvetica="" margin:="" padding:="" segoe="" ui="" vertical-align:="" web="" west="">\n<p><!--StartFragment--><span data-olk-copy-source="MessageBody">Composition Shop is an independent bookstore selling new titles\, stationery\, and a selection of chocolates.&nbsp\;</span><!--EndFragment--></p>\n</div>\n
LOCATION:
UID:e.3083.13302
SEQUENCE:3
DTSTAMP:20260421T124702Z
URL:https://members.longmontchamber.org/events/details/ribbon-cutting-composition-shop-13302
END:VEVENT

END:VCALENDAR
