BEGIN:VCALENDAR
VERSION:2.0
PRODID:-//ChamberMaster//Event Calendar 2.0//EN
METHOD:PUBLISH
X-PUBLISHED-TTL:P3D
REFRESH-INTERVAL:P3D
CALSCALE:GREGORIAN
BEGIN:VEVENT
DTSTART:20191008T220000Z
DTEND:20191008T230000Z
X-MICROSOFT-CDO-ALLDAYEVENT:FALSE
SUMMARY:Ribbon Cutting: Concentra
DESCRIPTION:Join us at a Ribbon Cutting for Concentra!\n\nServing employers with 100% dedication to Occupational Medicine. Work injury treatment\, physical examinations\, drug screens.\n\n\n\nRibbon Cuttings are a great way to celebrate our members\, network\, meet fellow Chamber Members and learn something about Longmont businesses.
X-ALT-DESC;FMTTYPE=text/html:<p>Join us at a Ribbon Cutting for Concentra!</p>\n\n<p><span style="color: rgb(81\, 83\, 81)\; font-family: CenturyGothic\, Arial\, Helvetica\, sans-serif\; font-size: 15px\;">Serving employers with 100% dedication to Occupational Medicine. Work injury treatment\, physical examinations\, drug screens.</span><br />\n<br />\n<span style="color: rgb(0\, 0\, 0)\; font-family: tahoma\; font-size: 14px\;">Ribbon Cuttings are a great way to celebrate our&nbsp\;members\, network\, meet fellow Chamber Members and learn something about Longmont businesses.</span></p>\n
LOCATION:1860 Industrial Circle Ste. D Longmont\, CO 80501
UID:e.3083.7144
SEQUENCE:3
DTSTAMP:20260426T005217Z
URL:https://members.longmontchamber.org/events/details/ribbon-cutting-concentra-7144
END:VEVENT

END:VCALENDAR
