BEGIN:VCALENDAR
VERSION:2.0
PRODID:-//ChamberMaster//Event Calendar 2.0//EN
METHOD:PUBLISH
X-PUBLISHED-TTL:P3D
REFRESH-INTERVAL:P3D
CALSCALE:GREGORIAN
BEGIN:VEVENT
DTSTART:20220930T230000Z
DTEND:20221001T000000Z
X-MICROSOFT-CDO-ALLDAYEVENT:FALSE
SUMMARY:Ribbon Cutting | Copper Sky Distillery
DESCRIPTION:Join us in celebrating Copper Sky Distillery's new location in the Longmont community!\n\n\n\nAbout Copper Sky Distillery \n\nCopper Sky Distillery is an innovative distillery\, birthed out of a desire to create a whiskey worth drinking in an atmosphere that feels like home to everyone that walks in.
X-ALT-DESC;FMTTYPE=text/html:Join us in celebrating Copper Sky Distillery&#39\;s new location in the Longmont community!<br />\n<br />\n<strong>About Copper Sky Distillery&nbsp\;</strong><br />\nCopper Sky Distillery is an innovative distillery\, birthed out of a desire to create a whiskey worth drinking in an atmosphere that feels like home to everyone that walks in.&nbsp\;
LOCATION:110 Emery St\, Longmont\, CO
UID:e.3083.9099
SEQUENCE:3
DTSTAMP:20260423T161613Z
URL:https://members.longmontchamber.org/events/details/ribbon-cutting-copper-sky-distillery-9099
END:VEVENT

END:VCALENDAR
