BEGIN:VCALENDAR
VERSION:2.0
PRODID:-//ChamberMaster//Event Calendar 2.0//EN
METHOD:PUBLISH
X-PUBLISHED-TTL:P3D
REFRESH-INTERVAL:P3D
CALSCALE:GREGORIAN
BEGIN:VEVENT
DTSTART:20230113T000000Z
DTEND:20230113T010000Z
X-MICROSOFT-CDO-ALLDAYEVENT:FALSE
SUMMARY:Ribbon Cutting | Coy Ink Studio
DESCRIPTION:Join us in welcoming new member Coy Ink Studio to the Longmont Chamber community!\n\n\n\nAbout Coy Ink Studio\n\nCelebrate Coy Ink Studio's first year of business at Firehouse Art Center! Ribbon cutting at 5pm and then join Coy Ink for a paint & sip afterparty with cozy mug painting at 5:30pm (see below for more info). You'll get a sneak peak at Firehouse's January Exhibit a day before the opening night! Coffee & wine available for purchase\, and snacks will be provided.\n\n--\n\nPaint & Sip @ 5:30pm - Mug & painting materials provided\, same day take & bake. Tickets are $20 for members or $30 for non-members. Pre-register or drop in :)  LINK TO REGISTER HERE  (ribbon cutting at 5pm is free to attend with no registration necessary)\n\n\n\nSee previous mug painting paint & sip here.\n\n\n\nIn this paint & sip\, we'll be painting on secondhand mugs using enamel markers so you can cure the ink in the oven afterwards to make it dishwasher safe! All mugs will look different since they're secondhand. You get to take the mug home with you as well as the instructions on how to cure the ink so it won't wash off. Suggested ideas on what to paint will be provided\, but feel free to paint whatever inspires you or bring your own photos to work from.
X-ALT-DESC;FMTTYPE=text/html:Join us in welcoming new member Coy Ink Studio to the Longmont Chamber community!<br />\n<br />\n<strong>About Coy Ink Studio</strong><br />\nCelebrate Coy Ink Studio&#39\;s first year of business at Firehouse Art Center! Ribbon cutting at 5pm and then join Coy Ink for a paint &amp\; sip afterparty with cozy mug painting at 5:30pm (see below for more info). You&#39\;ll get a sneak peak at Firehouse&#39\;s January Exhibit a day before the opening night! Coffee &amp\; wine available for purchase\, and snacks will be provided.<br />\n--<br />\n<strong>Paint &amp\; Sip @ 5:30pm</strong> - Mug &amp\; painting materials provided\, same day take &amp\; bake. Tickets are $20 for members or $30 for non-members. Pre-register or drop in :)&nbsp\;<a href="https://www.eventbrite.com/e/mug-painting-firehouse-art-center-tickets-482656156557"> LINK TO REGISTER HERE&nbsp\;</a>&nbsp\;<span style="font-size:11px\;">(ribbon cutting at 5pm is free to attend with no registration necessary)</span><br />\n<br />\nSee previous mug painting paint &amp\; sip <a href="https://www.instagram.com/p/Ci2uIIWMka2/">here</a>.<br />\n<br />\nIn this paint &amp\; sip\, we&#39\;ll be painting on secondhand mugs using enamel markers so you can cure the ink in the oven afterwards to make it dishwasher safe! All mugs will look different since they&#39\;re secondhand. You get to take the mug home with you as well as the instructions on how to cure the ink so it won&#39\;t wash off. Suggested ideas on what to paint will be provided\, but feel free to paint whatever inspires you or bring your own photos to work from.
LOCATION:Firehouse Art Center
UID:e.3083.9261
SEQUENCE:3
DTSTAMP:20260423T113240Z
URL:https://members.longmontchamber.org/events/details/ribbon-cutting-coy-ink-studio-9261
END:VEVENT

END:VCALENDAR
