BEGIN:VCALENDAR
VERSION:2.0
PRODID:-//ChamberMaster//Event Calendar 2.0//EN
METHOD:PUBLISH
X-PUBLISHED-TTL:P3D
REFRESH-INTERVAL:P3D
CALSCALE:GREGORIAN
BEGIN:VEVENT
DTSTART:20240305T230000Z
DTEND:20240306T000000Z
X-MICROSOFT-CDO-ALLDAYEVENT:FALSE
SUMMARY:Ribbon Cutting | Craft Financial
DESCRIPTION:Join us in celebrating Craft Financial!\n\n\n\nCraft Financial was formed in 2023 as a spin-off and affiliate of High Plains Bank. Chris McVay\, CEO of Craft Financial relocated to Florida in June 2023 and sought to expand certain business lines offered by the Bank. Bank's Senior Management and Ownership came together and decided to spin off the Bank's merchant processing division to Craft Financial with Chris leading the new company.  \n\n\n\nThe word "Craft" was chosen when creating the company as it speaks to the Company's drive and desire to find creative\, crafted solutions to many problems facing small businesses.\n\n\n\nHigh Plains Bank\, founded in 1908\, is a different kind of bank. Family-run\, employee owned\, and community driven\, they empower customers\, value small business owners\, and prioritize personal relationships. At High Plains Bank\, helping people and their communities thrive comes before banking.
X-ALT-DESC;FMTTYPE=text/html:Join us in celebrating Craft Financial!<br />\n<br />\nCraft Financial was formed in 2023 as a spin-off and affiliate of High Plains Bank. Chris McVay\, CEO of Craft Financial relocated to Florida in June 2023 and sought to expand certain business lines offered by the Bank. Bank&#39\;s Senior Management and Ownership came together and decided to spin off the Bank&#39\;s merchant processing division to Craft Financial with Chris leading the new company. &ensp\;<br />\n<br />\nThe word &quot\;Craft&quot\; was chosen when creating the company as it speaks to the Company&#39\;s drive and desire to find creative\, crafted solutions to many problems facing small businesses.<br />\n<br />\nHigh Plains Bank\, founded in 1908\, is a different kind of bank. Family-run\, employee owned\, and community driven\, they empower customers\, value small business owners\, and prioritize personal relationships. At High Plains Bank\, helping people and their communities thrive comes before banking.
LOCATION:
UID:e.3083.10047
SEQUENCE:3
DTSTAMP:20260422T121527Z
URL:https://members.longmontchamber.org/events/details/ribbon-cutting-craft-financial-10047
END:VEVENT

END:VCALENDAR
