BEGIN:VCALENDAR
VERSION:2.0
PRODID:-//ChamberMaster//Event Calendar 2.0//EN
METHOD:PUBLISH
X-PUBLISHED-TTL:P3D
REFRESH-INTERVAL:P3D
CALSCALE:GREGORIAN
BEGIN:VEVENT
DTSTART:20240813T230000Z
DTEND:20240814T000000Z
X-MICROSOFT-CDO-ALLDAYEVENT:FALSE
SUMMARY:Ribbon Cutting | Crossroads School - Grand Opening
DESCRIPTION:Join us in celebrating Crossroads School!\n\n\n\nAbout Crossroads School\n\nCrossroads School is an alternative middle and high school for students who aren't successful in traditional schools for a whole variety of reasons smart\, creative kids who just don't "fit" the system. We give them an individualized\, mastery-based\, highly-relational program to build their skills and confidence\, earn their diplomas\, and make a positive plan for their lives. Learn more at crossroadslongmont.org.\n\n \n\nCrossroads Workforce Readiness Program is a part-time option to help any high school students explore careers and their own aptitudes through assessment\, research\, career conversations\, interview practice\, resume writing\, job shadows\, internships\, and coursework\, so they graduate high school not just with a diploma but with a clear plan for what comes next. Learn more at crossroadswrp.org.
X-ALT-DESC;FMTTYPE=text/html:Join us in celebrating Crossroads School!<br />\n<br />\n<strong>About Crossroads School</strong>\n<div color:="" font-feature-settings:="" font-kerning:="" font-optical-sizing:="" font-variation-settings:="" helvetica="" margin:="" padding:="" segoe="" ui="" vertical-align:="" web="" west="">\n<div style="border: 0px\; font-variant-numeric: inherit\; font-variant-east-asian: inherit\; font-variant-alternates: inherit\; font-variant-position: inherit\; font-stretch: inherit\; font-size: 12pt\; line-height: inherit\; font-family: Aptos\, Aptos_EmbeddedFont\, Aptos_MSFontService\, Calibri\, Helvetica\, sans-serif\; font-optical-sizing: inherit\; font-size-adjust: inherit\; font-kerning: inherit\; font-feature-settings: inherit\; font-variation-settings: inherit\; margin: 0px\; padding: 0px\; vertical-align: baseline\; color: black\;">Crossroads School is an alternative middle and high school for students who aren&#39\;t successful in traditional schools for a whole variety of reasons<span style="border: 0px\; font: inherit\; margin: 0px\; padding: 0px\; vertical-align: baseline\; color: inherit\; display: inline-block\;"><span id="x_hyphen1" style="border: 0px\; font: inherit\; margin: 0px\; padding: 0px\; vertical-align: baseline\; color: inherit\;">&mdash\;</span></span>smart\, creative kids who just don&#39\;t &quot\;fit&quot\; the system. We give them an individualized\, mastery-based\, highly-relational program to build their skills and confidence\, earn their diplomas\, and make a positive plan for their lives. Learn more at crossroadslongmont.org.</div>\n\n<div dir="ltr" style="border: 0px\; font-variant-numeric: inherit\; font-variant-east-asian: inherit\; font-variant-alternates: inherit\; font-variant-position: inherit\; font-stretch: inherit\; font-size: 12pt\; line-height: inherit\; font-family: Aptos\, Aptos_EmbeddedFont\, Aptos_MSFontService\, Calibri\, Helvetica\, sans-serif\; font-optical-sizing: inherit\; font-size-adjust: inherit\; font-kerning: inherit\; font-feature-settings: inherit\; font-variation-settings: inherit\; margin: 0px\; padding: 0px\; vertical-align: baseline\; color: black\;">&nbsp\;</div>\n\n<div dir="ltr" style="border: 0px\; font-variant-numeric: inherit\; font-variant-east-asian: inherit\; font-variant-alternates: inherit\; font-variant-position: inherit\; font-stretch: inherit\; font-size: 12pt\; line-height: inherit\; font-family: Aptos\, Aptos_EmbeddedFont\, Aptos_MSFontService\, Calibri\, Helvetica\, sans-serif\; font-optical-sizing: inherit\; font-size-adjust: inherit\; font-kerning: inherit\; font-feature-settings: inherit\; font-variation-settings: inherit\; margin: 0px\; padding: 0px\; vertical-align: baseline\; color: black\;">Crossroads Workforce Readiness Program is a part-time option to help any high school students explore careers and their own aptitudes through assessment\, research\, career conversations\, interview practice\, resume writing\, job shadows\, internships\, and coursework\, so they graduate high school not just with a diploma but with a clear plan for what comes next. Learn more at <a href="http://crossroadswrp.org.">crossroadswrp.org.</a></div>\n</div>\n
LOCATION:
UID:e.3083.10175
SEQUENCE:3
DTSTAMP:20260422T032251Z
URL:https://members.longmontchamber.org/events/details/ribbon-cutting-crossroads-school-grand-opening-10175
END:VEVENT

END:VCALENDAR
