BEGIN:VCALENDAR
VERSION:2.0
PRODID:-//ChamberMaster//Event Calendar 2.0//EN
METHOD:PUBLISH
X-PUBLISHED-TTL:P3D
REFRESH-INTERVAL:P3D
CALSCALE:GREGORIAN
BEGIN:VEVENT
DTSTART:20190913T220000Z
DTEND:20190913T230000Z
X-MICROSOFT-CDO-ALLDAYEVENT:FALSE
SUMMARY:Ribbon Cutting: Crystal Joys
DESCRIPTION:Join us at a Ribbon Cutting for Crystal Joys!\n\n\n\nWe sell a variety of products including hand crafted jewelry\, healing stones\, crystals and stones.\n\n\n\nRibbon Cuttings are a great way to celebrate our members\, network\, meet fellow Chamber Members and learn something about Longmont businesses.
X-ALT-DESC;FMTTYPE=text/html:Join us at a Ribbon Cutting for Crystal Joys!<br />\n<br />\n<span style="color: rgb(81\, 83\, 81)\; font-family: CenturyGothic\, Arial\, Helvetica\, sans-serif\; font-size: 15px\;">We sell a variety of products including hand crafted jewelry\, healing stones\, crystals and stones.</span><br />\n<br />\n<span style="color: rgb(0\, 0\, 0)\; font-family: tahoma\; font-size: 14px\;">Ribbon Cuttings are a great way to celebrate our&nbsp\;members\, network\, meet fellow Chamber Members and learn something about Longmont businesses.</span>
LOCATION:372 Main St. Longmont\, CO 80501
UID:e.3083.7114
SEQUENCE:3
DTSTAMP:20260426T024040Z
URL:https://members.longmontchamber.org/events/details/ribbon-cutting-crystal-joys-7114
END:VEVENT

END:VCALENDAR
