BEGIN:VCALENDAR
VERSION:2.0
PRODID:-//ChamberMaster//Event Calendar 2.0//EN
METHOD:PUBLISH
X-PUBLISHED-TTL:P3D
REFRESH-INTERVAL:P3D
CALSCALE:GREGORIAN
BEGIN:VEVENT
DTSTART:20251028T220000Z
DTEND:20251028T230000Z
X-MICROSOFT-CDO-ALLDAYEVENT:FALSE
SUMMARY:Ribbon Cutting | Daytrip Town Carts
DESCRIPTION:Join us in celebrating Daytrip Town Carts!\n\n\n\nAbout Daytrip Town Carts\n\nLongmont's premier destination for street-legal golf carts and LSV's.  Creating culture and community\, one ride at a time...\n\nCome check it all out!  Contemplate the fabulousness of a street-legal golf cart to the sound of spinning vinyl records and work up an appetite during the clubhouse games!  Test drive rides during this event!
X-ALT-DESC;FMTTYPE=text/html:Join us in celebrating Daytrip Town Carts!<br />\n<br />\n<strong>About Daytrip Town&nbsp\;Carts</strong><br />\nLongmont&#39\;s premier destination for street-legal golf carts and LSV&#39\;s.&nbsp\; Creating culture and community\, one ride at a time...<br />\nCome check it all out!&nbsp\; Contemplate the fabulousness of a street-legal golf cart to the sound of spinning vinyl records and work up an appetite during the clubhouse games!&nbsp\; Test drive rides during this event!
LOCATION:
UID:e.3083.14625
SEQUENCE:3
DTSTAMP:20260421T052155Z
URL:https://members.longmontchamber.org/events/details/ribbon-cutting-daytrip-town-carts-14625
END:VEVENT

END:VCALENDAR
