BEGIN:VCALENDAR
VERSION:2.0
PRODID:-//ChamberMaster//Event Calendar 2.0//EN
METHOD:PUBLISH
X-PUBLISHED-TTL:P3D
REFRESH-INTERVAL:P3D
CALSCALE:GREGORIAN
BEGIN:VEVENT
DTSTART:20220401T220000Z
DTEND:20220401T230000Z
X-MICROSOFT-CDO-ALLDAYEVENT:FALSE
SUMMARY:Ribbon Cutting | Dee-o-Gee
DESCRIPTION:Join us in welcoming new member Dee-o-Gee to the Longmont Chamber community!\n\n\n\nAbout Dee-o-Gee\n\nDee-O-Gee in Longmont is Northern Colorado's best source of Holistic pet foods and supplies\, grooming\, daycare as well as DIY dog wash. We are locally owned and are very excited to get to know everyone and their pets in the surrounding area. We at Dee-O-Gee know that pets are our pride and joy so we will guide you through all the nutritional questions you have for your pet babies.
X-ALT-DESC;FMTTYPE=text/html:Join us in welcoming new member Dee-o-Gee to the Longmont Chamber community!<br />\n<br />\n<strong>About Dee-o-Gee</strong><br />\nDee-O-Gee in Longmont is Northern Colorado&#39\;s best source of Holistic pet foods and supplies\, grooming\, daycare as well as DIY dog wash. We are locally owned and are very excited to get to know everyone and their pets in the surrounding area. We at Dee-O-Gee know that pets are our pride and joy so we will guide you through all the nutritional questions you have for your pet babies.&nbsp\;&nbsp\;
LOCATION:110 Emery St\, Longmont\, CO
UID:e.3083.8668
SEQUENCE:3
DTSTAMP:20260423T235908Z
URL:https://members.longmontchamber.org/events/details/ribbon-cutting-dee-o-gee-8668
END:VEVENT

END:VCALENDAR
