BEGIN:VCALENDAR
VERSION:2.0
PRODID:-//ChamberMaster//Event Calendar 2.0//EN
METHOD:PUBLISH
X-PUBLISHED-TTL:P3D
REFRESH-INTERVAL:P3D
CALSCALE:GREGORIAN
BEGIN:VEVENT
DTSTART:20251113T230000Z
DTEND:20251114T000000Z
X-MICROSOFT-CDO-ALLDAYEVENT:FALSE
SUMMARY:Ribbon Cutting | Dentists of St. Vrain Creek
DESCRIPTION:Join us in celebrating Dentists of St. Vrain Creek!\n\n\n\nAbout \n\nAt Dentists of St. Vrain Creek \, we prioritize your oral health because we understand its vital role in your overall well-being.  Our personalized care and advanced solutions keep your smile healthy\, whether you're here for a routine cleaning or advanced procedures like a root canal or a dental bridge.  In our friendly\, modern environment\, we make every visit easy and comfortable for patients of all ages.  Beyond your smile\, we're dedicated to supporting your overall health at every step.
X-ALT-DESC;FMTTYPE=text/html:Join us in celebrating Dentists of St. Vrain Creek!<br />\n<br />\n<strong>About&nbsp\;</strong>\n<div color:="" font-feature-settings:="" font-kerning:="" font-optical-sizing:="" font-variation-settings:="" helvetica="" margin:="" padding:="" segoe="" ui="" vertical-align:="" web="" west="">\n<p>At Dentists of St. Vrain Creek \, we prioritize your oral health because we understand its vital role in your overall well-being.&nbsp\; Our personalized care and advanced solutions keep your smile healthy\, whether you&rsquo\;re here for a routine cleaning or advanced procedures like a root canal or a dental bridge.&nbsp\; In our friendly\, modern environment\, we make every visit easy and comfortable for patients of all ages.&nbsp\; Beyond your smile\, we&rsquo\;re dedicated to supporting your overall health at every step.&nbsp\;</p>\n</div>\n
LOCATION:
UID:e.3083.14247
SEQUENCE:3
DTSTAMP:20260421T033744Z
URL:https://members.longmontchamber.org/events/details/ribbon-cutting-dentists-of-st-vrain-creek-14247
END:VEVENT

END:VCALENDAR
