BEGIN:VCALENDAR
VERSION:2.0
PRODID:-//ChamberMaster//Event Calendar 2.0//EN
METHOD:PUBLISH
X-PUBLISHED-TTL:P3D
REFRESH-INTERVAL:P3D
CALSCALE:GREGORIAN
BEGIN:VEVENT
DTSTART:20220707T230000Z
DTEND:20220708T000000Z
X-MICROSOFT-CDO-ALLDAYEVENT:FALSE
SUMMARY:Ribbon Cutting | Dickens 300 Prime
DESCRIPTION:Join us in recognizing the new remodel at Dickens 300 Prime!\n\n\n\nAbout Dickens 300 Prime\n\nOriginally built in 1881 by William Henry Dickens a relative of the famous author Charles Dickens\, William Henry came to the area in 1860 as a young man\, the son of Mary Allen.\n\n \n\nWhen he built the opera house he was one of the largest land owners of the time. The parcel that the building sits on was given to his father by Ulysses S. Grant\, the president.\n\n \n\nNow you can find the best food and atmosphere in the territory\, in an authentic setting\, with friendly staff and nightlife unlike any other.\n\n \n\nJoin us for Lunch and Dinner.
X-ALT-DESC;FMTTYPE=text/html:Join us in recognizing the new remodel at Dickens 300 Prime!<br />\n<br />\n<strong>About Dickens 300 Prime</strong><br />\nOriginally built in 1881 by William Henry Dickens a relative of the famous author Charles Dickens\, William Henry came to the area in 1860 as a young man\, the son of Mary Allen.<br />\n&nbsp\;<br />\nWhen he built the opera house he was one of the largest land owners of the time. The parcel that the building sits on was given to his father by Ulysses S. Grant\, the president.<br />\n&nbsp\;<br />\nNow you can find the best food and atmosphere in the territory\, in an authentic setting\, with friendly staff and nightlife unlike any other.<br />\n&nbsp\;<br />\nJoin us for Lunch and Dinner.
LOCATION:300 Main St Longmont\, CO
UID:e.3083.8826
SEQUENCE:3
DTSTAMP:20260423T193000Z
URL:https://members.longmontchamber.org/events/details/ribbon-cutting-dickens-300-prime-8826
END:VEVENT

END:VCALENDAR
