BEGIN:VCALENDAR
VERSION:2.0
PRODID:-//ChamberMaster//Event Calendar 2.0//EN
METHOD:PUBLISH
X-PUBLISHED-TTL:P3D
REFRESH-INTERVAL:P3D
CALSCALE:GREGORIAN
BEGIN:VEVENT
DTSTART:20240411T220000Z
DTEND:20240411T230000Z
X-MICROSOFT-CDO-ALLDAYEVENT:FALSE
SUMMARY:Ribbon Cutting | Discover Longmont Magazine
DESCRIPTION:Join us in celebrating Discover Longmont Magazine!\n\n\n\nDiscover Longmont Magazine\, with over 20 years of history\, showcases the unique aspects of the community. We highlight local businesses\, events\, and non-profits\, providing valuable insights for residents and visitors. Our diverse content covers services\, dining\, wellness\, discounts\, and event listings. As a bridge between the local businesses and the community\, we offer current information\, entertainment\, and inspiration. Discover Longmont Magazine will continue to keep Longmont residents informed\, engaged\, and connected.
X-ALT-DESC;FMTTYPE=text/html:Join us in celebrating Discover Longmont Magazine!<br />\n<br />\n<span apple="" color="" font-size:="" helvetica="" noto="" s="" segoe="" style="color: rgb(55\, 65\, 81)\; font-family: " ui="">Discover Longmont Magazine\, with over 20 years of history\, showcases the unique aspects of the community. We highlight local businesses\, events\, and non-profits\, providing valuable insights for residents and visitors. Our diverse content covers services\, dining\, wellness\, discounts\, and event listings. As a bridge between the local businesses and the community\, we offer current information\, entertainment\, and inspiration. Discover Longmont Magazine will continue to keep Longmont residents informed\, engaged\, and connected.</span>
LOCATION:
UID:e.3083.9979
SEQUENCE:3
DTSTAMP:20260422T105108Z
URL:https://members.longmontchamber.org/events/details/ribbon-cutting-discover-longmont-magazine-9979
END:VEVENT

END:VCALENDAR
