BEGIN:VCALENDAR
VERSION:2.0
PRODID:-//ChamberMaster//Event Calendar 2.0//EN
METHOD:PUBLISH
X-PUBLISHED-TTL:P3D
REFRESH-INTERVAL:P3D
CALSCALE:GREGORIAN
BEGIN:VEVENT
DTSTART:20251021T220000Z
DTEND:20251021T230000Z
X-MICROSOFT-CDO-ALLDAYEVENT:FALSE
SUMMARY:Ribbon Cutting | Eighteen71
DESCRIPTION:Join us in celebrating Eighteen71!\n\n\n\nAbout\n\nEighteen71 is a vibrant bar experience rooted in community\, craft\, and character. We serve great drinks with great energy   honoring our local heritage while pouring new life into Longmont's social scene!
X-ALT-DESC;FMTTYPE=text/html:Join us in celebrating Eighteen71!<br />\n<br />\n<strong>About</strong><br />\nEighteen71 is a vibrant bar experience rooted in community\, craft\, and character. We serve great drinks with great energy &mdash\; honoring our local heritage while pouring new life into Longmont&rsquo\;s social scene!
LOCATION:Inside Parkway Food Hall
UID:e.3083.14624
SEQUENCE:3
DTSTAMP:20260421T052023Z
URL:https://members.longmontchamber.org/events/details/ribbon-cutting-eighteen71-14624
END:VEVENT

END:VCALENDAR
