BEGIN:VCALENDAR
VERSION:2.0
PRODID:-//ChamberMaster//Event Calendar 2.0//EN
METHOD:PUBLISH
X-PUBLISHED-TTL:P3D
REFRESH-INTERVAL:P3D
CALSCALE:GREGORIAN
BEGIN:VEVENT
DTSTART:20231120T230000Z
DTEND:20231121T000000Z
X-MICROSOFT-CDO-ALLDAYEVENT:FALSE
SUMMARY:Ribbon Cutting | Elevated Communities
DESCRIPTION:Join us in celebrating the GRAND OPENING of Elevated Communities!\n\n\n\nAbout Elevated Communities\n\nElevated Communities Gently Used Clothing Boutique is a Non-Profit store specializing in gently used\, stylish\, and affordable clothes for men and women.\n\n \n\nElevated Communities also provides advocacy to individuals with disabilities.
X-ALT-DESC;FMTTYPE=text/html:Join us in celebrating the GRAND OPENING of Elevated Communities!<br />\n<br />\n<strong>About Elevated Communities</strong>\n<div color:="" font-feature-settings:="" font-kerning:="" font-optical-sizing:="" font-variation-settings:="" helvetica="" margin:="" padding:="" segoe="" ui="" vertical-align:="" web="" west="">\n<p>Elevated Communities Gently Used Clothing Boutique is a&nbsp\;Non-Profit store specializing in gently used\, stylish\, and affordable clothes for men and women.<br />\n&nbsp\;<br />\nElevated Communities also provides advocacy to individuals with disabilities.</p>\n</div>\n
LOCATION:Elevated Communities 455 Main Street Longmont Colorado
UID:e.3083.9985
SEQUENCE:3
DTSTAMP:20260422T182726Z
URL:https://members.longmontchamber.org/events/details/ribbon-cutting-elevated-communities-9985
END:VEVENT

END:VCALENDAR
