BEGIN:VCALENDAR
VERSION:2.0
PRODID:-//ChamberMaster//Event Calendar 2.0//EN
METHOD:PUBLISH
X-PUBLISHED-TTL:P3D
REFRESH-INTERVAL:P3D
CALSCALE:GREGORIAN
BEGIN:VEVENT
DTSTART:20250403T220000Z
DTEND:20250403T230000Z
X-MICROSOFT-CDO-ALLDAYEVENT:FALSE
SUMMARY:Ribbon Cutting | Elevated Communities Cat Cafe
DESCRIPTION:Join us in celebrating Elevated Communities Cat Cafe!\n\n\n\nAbout Elevated Communities Cat Cafe\n\nCoffee\, Tea\, & Cats\n\n\nAt Elevated Communities Cat Cafe\, our mission is to create a welcoming\, inclusive space where people can connect with adoptable cats while supporting a community of growth and empowerment. We are committed to providing job skill training and employment opportunities for adults with intellectual disabilities\, offering them a platform to develop valuable workplace skills and build confidence. By combining the joy of feline companionship with meaningful work experiences\, we strive to enrich the lives of both our customers and our team members\, fostering a compassionate environment for all.
X-ALT-DESC;FMTTYPE=text/html:Join us in celebrating Elevated Communities Cat Cafe!<br />\n<br />\n<strong>About Elevated Communities Cat Cafe</strong>\n<div color:="" font-feature-settings:="" font-kerning:="" font-optical-sizing:="" font-variation-settings:="" helvetica="" margin:="" padding:="" segoe="" ui="" vertical-align:="" web="" west="">\n<h4 aria-level="4" data-aid="ABOUT_HEADLINE_RENDERED0" data-typography="HeadingDelta" data-ux="ContentHeading" role="heading"><strong>Coffee\, Tea\, &amp\; Cats</strong></h4>\n\n<div alignment="center" data-aid="ABOUT_DESCRIPTION_RENDERED0" data-typography="BodyAlpha" data-ux="ContentText">\n<p>At Elevated Communities Cat Cafe\, our mission is to create a welcoming\, inclusive space where people can connect with adoptable cats while supporting a community of growth and empowerment. We are committed to providing job skill training and employment opportunities for adults with intellectual disabilities\, offering them a platform to develop valuable workplace skills and build confidence. By combining the joy of feline companionship with meaningful work experiences\, we strive to enrich the lives of both our customers and our team members\, fostering a compassionate environment for all.&nbsp\;</p>\n\n<div>&nbsp\;</div>\n</div>\n</div>\n
LOCATION:
UID:e.3083.13025
SEQUENCE:3
DTSTAMP:20260421T142841Z
URL:https://members.longmontchamber.org/events/details/ribbon-cutting-elevated-communities-cat-cafe-13025
END:VEVENT

END:VCALENDAR
