BEGIN:VCALENDAR
VERSION:2.0
PRODID:-//ChamberMaster//Event Calendar 2.0//EN
METHOD:PUBLISH
X-PUBLISHED-TTL:P3D
REFRESH-INTERVAL:P3D
CALSCALE:GREGORIAN
BEGIN:VEVENT
DTSTART:20250220T230000Z
DTEND:20250221T000000Z
X-MICROSOFT-CDO-ALLDAYEVENT:FALSE
SUMMARY:Ribbon Cutting | Elevated Health Benefits
DESCRIPTION:Join us in celebrating Heather Geske Elevated Health Benefits!\n\n\n\nAbout Business Elevated Health Benefits \n\n\n\nWe are your local independent health\, life and Medicare brokers working to make insurance affordable and accessible for everyone.\n\n\n\nWith over a decade of dedicated service in the insurance industry we are committed to understanding each client's unique circumstances\,  We are able to offer personalized financial protection tools that provide peace of mind in any situation.  By prioritizing transparency\, reliability\, and exceptional service\, we strive to build lasting relationships based on trust and mutual understanding.  Let's partner up to secure a brighter\, more protected future for you and your loved ones.  Together\, we'll navigate the complexities of insurance to find the perfect plan tailored to your needs.
X-ALT-DESC;FMTTYPE=text/html:Join us in celebrating Heather Geske Elevated Health Benefits!<br />\n<br />\n<strong>About Business Elevated Health Benefits </strong><br />\n<br />\nWe&nbsp\;are your local independent health\, life and Medicare brokers working to make insurance affordable and accessible&nbsp\;for everyone.<br />\n<br />\nWith over a decade of dedicated service in the insurance industry we are committed to understanding each client&rsquo\;s unique circumstances\,&nbsp\; We are able to offer personalized financial protection tools that provide peace of mind in any situation.&nbsp\; By prioritizing transparency\, reliability\, and exceptional service\, we strive to build lasting relationships based on trust and mutual understanding.&nbsp\; Let&rsquo\;s partner up to secure a brighter\, more protected future for you and your loved ones.&nbsp\; Together\, we&rsquo\;ll navigate the complexities of insurance to find the perfect plan tailored to your needs.
LOCATION:
UID:e.3083.10722
SEQUENCE:3
DTSTAMP:20260421T174824Z
URL:https://members.longmontchamber.org/events/details/ribbon-cutting-elevated-health-benefits-10722
END:VEVENT

END:VCALENDAR
