BEGIN:VCALENDAR
VERSION:2.0
PRODID:-//ChamberMaster//Event Calendar 2.0//EN
METHOD:PUBLISH
X-PUBLISHED-TTL:P3D
REFRESH-INTERVAL:P3D
CALSCALE:GREGORIAN
BEGIN:VEVENT
DTSTART:20220811T230000Z
DTEND:20220812T000000Z
X-MICROSOFT-CDO-ALLDAYEVENT:FALSE
SUMMARY:Ribbon Cutting | Elite Construction
DESCRIPTION:Join us in welcoming new member Elite Construction to the Longmont Chamber community!\n\n\n\nAbout Elite Construction \n\nAt Elite Construction\, we offer an efficient\, effective home remodeling process that begins with a clear understanding of what you want and needs to transform your home.\n\n\n\nJoin us for an open house from 3-6pm on 8/11/2022. Ribbon Cutting will be at 5pm. \n\n\n\nTour our newly constructed home\, see new building products and designs.\n\nLearn more about Elite Construction and the services we are bringing to the Northern Colorado Community\n\n\n\nElite Construction has been operating out of their Denver Location since 2016 and we are now expanding to support Northern Colorado from our new location at 675 County Road 16 1/2\, Longmont\, CO 80504. This location will allow faster response times for quotes and emergency services in Northern Colorado.\n\n\n\nElite Construction services include:\n\n	Residential and Commercial Renovation and Repairs\n	Interior remodels\, Bathroom\, Kitchen\, etc\n	Exterior remodels\, Roofing Siding\, Windows\, Doors\, Concrete\n	As a Class B General Contractor we can plan and coordinate your projects from start to finish.\n\nIn addition to our remodel business\, we are certified contractors for multiple insurance companies. We have a full service approach to claims management and work side by side with adjusters to return your property to pre-claim conditions.\n\n\n\nWe will have appetizers and refreshments while you tour our new location. Ribbon Cutting will happen at 5pm with the Longmont Chamber of Commerce \n\n\n\nWe look forward to seeing you at our event!
X-ALT-DESC;FMTTYPE=text/html:Join us in welcoming new member Elite Construction to the Longmont Chamber community!<br />\n<br />\n<strong>About Elite Construction&nbsp\;</strong><br />\nAt Elite Construction\, we offer an efficient\, effective home remodeling process that begins with a clear understanding of what you want and needs to transform your home.<br />\n<br />\nJoin us for an open house from 3-6pm on 8/11/2022. Ribbon Cutting will be at 5pm.&nbsp\;<br />\n<br />\nTour our newly constructed home\, see new building products and designs.<br />\nLearn more about Elite Construction and the services we are bringing to the Northern Colorado Community<br />\n<br />\nElite Construction has been operating out of their Denver Location since 2016 and we are now expanding to support Northern Colorado from our new location at 675 County Road 16 1/2\, Longmont\, CO 80504.&nbsp\;This location will allow faster response times for quotes and emergency services in Northern Colorado.<br />\n<br />\nElite Construction services include:\n<ul>\n	<li>Residential and Commercial Renovation and Repairs</li>\n	<li>Interior remodels\, Bathroom\, Kitchen\, etc</li>\n	<li>Exterior remodels\, Roofing Siding\, Windows\, Doors\, Concrete</li>\n	<li>As a Class B General Contractor we can plan and coordinate your projects from start to finish.</li>\n</ul>\nIn addition to our remodel business\, we are certified contractors for multiple insurance companies. We have a full service approach to claims management and work side by side with adjusters to return your property to pre-claim conditions.<br />\n<br />\nWe will have appetizers and refreshments while you tour our new location. Ribbon Cutting will happen at 5pm with the Longmont Chamber of Commerce&nbsp\;<br />\n<br />\nWe look forward to seeing you at our event!
LOCATION:675 County Road 16 1/2 Longmont\, CO 80504
UID:e.3083.8839
SEQUENCE:3
DTSTAMP:20260423T174643Z
URL:https://members.longmontchamber.org/events/details/ribbon-cutting-elite-construction-8839
END:VEVENT

END:VCALENDAR
