BEGIN:VCALENDAR
VERSION:2.0
PRODID:-//ChamberMaster//Event Calendar 2.0//EN
METHOD:PUBLISH
X-PUBLISHED-TTL:P3D
REFRESH-INTERVAL:P3D
CALSCALE:GREGORIAN
BEGIN:VEVENT
DTSTART:20230926T220000Z
DTEND:20230926T230000Z
X-MICROSOFT-CDO-ALLDAYEVENT:FALSE
SUMMARY:Ribbon Cutting | Elks Lodge #1055
DESCRIPTION:Join us in welcoming new member Elks Lodge #1055 to the Longmont Chamber community!\n\n\n\nAbout The Elks Lodge \n\n\n\nOur Fraternal Order was founded "To promote and practice the four cardinal virtues of Charity\, Justice\, Brotherly Love\, and Fidelity\; to promote the welfare and enhance the happiness of its members\; to quicken the spirit of American Patriotism and cultivate good fellowship." \n\n\n\nIn this spirit\, the Longmont Elks would like to invite you to our ribbon cutting ceremony to share a bit about our history and our current non-profit community efforts. You'll be able to see both our main building built in 1929 and our 1962 ballroom addition and learn about our social and charitable efforts and services to youth\, veterans\, and those in need. \n\n\n\nIn 2023\, we will be celebrating our 117th anniversary here in Longmont. We need not be a "Third and Coffman mystery" any longer! Come join us for the ribbon cutting and see all that we have to offer!
X-ALT-DESC;FMTTYPE=text/html:<br />\nJoin us in welcoming new member Elks Lodge #1055 to the Longmont Chamber community!<br />\n<br />\n<strong>About The Elks Lodge&nbsp\;</strong><br />\n<br />\nOur Fraternal Order was founded &ldquo\;To promote and practice the four cardinal virtues of Charity\, Justice\, Brotherly Love\, and Fidelity\; to promote the welfare and enhance the happiness of its members\; to quicken the spirit of American Patriotism and cultivate good fellowship.&rdquo\;&nbsp\;<br />\n<br />\nIn this spirit\, the Longmont Elks would like to invite you to our ribbon cutting ceremony to share a bit about our history and our current non-profit community efforts. You&rsquo\;ll be able to see both our main building built in 1929 and our 1962 ballroom addition and learn about our social and charitable efforts and services to youth\, veterans\, and those in need.&nbsp\;<br />\n<br />\nIn 2023\, we will be celebrating our 117th anniversary here in Longmont. We need not be a &ldquo\;Third and Coffman mystery&quot\; any longer! Come join us for the ribbon cutting and see all that we have to offer!
LOCATION:
UID:e.3083.9947
SEQUENCE:3
DTSTAMP:20260422T215123Z
URL:https://members.longmontchamber.org/events/details/ribbon-cutting-elks-lodge-1055-9947
END:VEVENT

END:VCALENDAR
