BEGIN:VCALENDAR
VERSION:2.0
PRODID:-//ChamberMaster//Event Calendar 2.0//EN
METHOD:PUBLISH
X-PUBLISHED-TTL:P3D
REFRESH-INTERVAL:P3D
CALSCALE:GREGORIAN
BEGIN:VEVENT
DTSTART:20240905T220000Z
DTEND:20240905T230000Z
X-MICROSOFT-CDO-ALLDAYEVENT:FALSE
SUMMARY:Ribbon Cutting | Emma Hall\, WK Real Estate
DESCRIPTION:Join us in celebrating Emma Hall with WK Real Estate!\n\n\n\nAbout Emma Hall\n\nEmma Hall joined WK Real Estate this year and invites you to participate in her upcoming ribbon cutting event. Emma channels her unwavering dedication and passion for assisting others into the dynamic realm of real estate. As a valued member of Team Culver\, Emma stands ready to guide and support you throughout every stage of your real estate journey\, whether you're embarking on the exciting adventure of buying a new home or navigating the intricacies of selling your current home. You can trust Emma in her capability\, integrity\, and commitment as your real estate partner.
X-ALT-DESC;FMTTYPE=text/html:Join us in celebrating Emma Hall with WK Real Estate!<br />\n<br />\n<strong>About Emma Hall</strong>\n<div color:="" font-feature-settings:="" font-kerning:="" font-optical-sizing:="" font-variation-settings:="" helvetica="" margin:="" padding:="" segoe="" ui="" vertical-align:="" web="" west="">\n<p>Emma&nbsp\;Hall&nbsp\;joined WK Real Estate this year and invites you to participate in her upcoming ribbon cutting event.&nbsp\;Emma&nbsp\;channels her unwavering dedication and passion for assisting others into the dynamic realm of real estate. As a valued member of Team Culver\,&nbsp\;Emma&nbsp\;stands ready to guide and support you throughout every stage of your real estate journey\, whether you&#39\;re embarking on the exciting adventure of buying a new home or navigating the intricacies of selling your current home. You can trust&nbsp\;Emma&nbsp\;in her capability\, integrity\, and commitment as your real estate partner.</p>\n</div>\n
LOCATION:This Ribbon Cutting is being hosted by Tri Pointe Homes at their lovely Longmont office.
UID:e.3083.10174
SEQUENCE:3
DTSTAMP:20260422T013840Z
URL:https://members.longmontchamber.org/events/details/ribbon-cutting-emma-hall-wk-real-estate-10174
END:VEVENT

END:VCALENDAR
