BEGIN:VCALENDAR
VERSION:2.0
PRODID:-//ChamberMaster//Event Calendar 2.0//EN
METHOD:PUBLISH
X-PUBLISHED-TTL:P3D
REFRESH-INTERVAL:P3D
CALSCALE:GREGORIAN
BEGIN:VEVENT
DTSTART:20241217T230000Z
DTEND:20241218T000000Z
X-MICROSOFT-CDO-ALLDAYEVENT:FALSE
SUMMARY:Ribbon Cutting | Family Carpet One
DESCRIPTION:Join us in celebrating Family Carpet One!\n\n\n\nAbout Family Carpet One\n\n\n\nFamily Carpet One opened in 1996. In 2023 Lensen Corp purchased Family Carpet One from the Martinez family. The staff remained the same with Lensen Corp\, as well as adding a new sales rep. Combined we have over 100 years of experience in flooring expertise. We sell and install carpet\, ceramic tile\, hard wood\, laminate flooring\, EVP\, LVP\, and sheet vinyl. Flooring of all types are handled by Family Carpet One! We service residential\, commercial\, multifamily\, single family rentals\, and new construction.
X-ALT-DESC;FMTTYPE=text/html:Join us in celebrating Family Carpet One!<br />\n<br />\n<strong>About Family Carpet One</strong><br />\n<br />\n<span data-olk-copy-source="MessageBody">Family Carpet One opened in 1996. In 2023 Lensen Corp purchased Family Carpet One from the Martinez family. The staff remained the same with Lensen Corp\, as well as adding a new sales rep. Combined we have over 100 years of experience in flooring expertise. We sell and install carpet\, ceramic tile\, hard wood\, laminate flooring\, EVP\, LVP\, and sheet vinyl. Flooring of all types are handled by Family Carpet One! We service residential\, commercial\, multifamily\, single family rentals\, and new construction.&nbsp\;</span>
LOCATION:Family Carpet One
UID:e.3083.10284
SEQUENCE:3
DTSTAMP:20260421T204235Z
URL:https://members.longmontchamber.org/events/details/ribbon-cutting-family-carpet-one-10284
END:VEVENT

END:VCALENDAR
