BEGIN:VCALENDAR
VERSION:2.0
PRODID:-//ChamberMaster//Event Calendar 2.0//EN
METHOD:PUBLISH
X-PUBLISHED-TTL:P3D
REFRESH-INTERVAL:P3D
CALSCALE:GREGORIAN
BEGIN:VEVENT
DTSTART:20241008T220000Z
DTEND:20241008T230000Z
X-MICROSOFT-CDO-ALLDAYEVENT:FALSE
SUMMARY:Ribbon Cutting | Farm Haus Apartments
DESCRIPTION:Join us in celebrating Farm Haus Apartments!\n\n\n\nAbout Farm Haus Apartments\n\n\n\nLife comes to a balance when you call Farm Haus home. Towering views of Longs Peak cascade across the skyline to the west\, while the property's blend of contemporary conveniences and rustic surroundings lets you delight in the details of everyday living. Authentic to Longmont\, Farm Haus focuses on the beauty of timeless simplicity in its spaces\, made possible in today's modern world with high-style\, high-performing apartments.\n\n\n\nFind a brand new one\, two or three-bedroom floor plan that perfectly fits your lifestyle\, in a one-of-a-kind community.
X-ALT-DESC;FMTTYPE=text/html:<br />\nJoin us in celebrating Farm Haus Apartments!<br />\n<br />\n<strong>About Farm Haus Apartments</strong><br />\n<br />\nLife comes to a balance when you call Farm Haus home. Towering views of Longs Peak cascade across the skyline to the west\, while the property&rsquo\;s blend of contemporary conveniences and rustic surroundings lets you delight in the details of everyday living. Authentic to Longmont\, Farm Haus focuses on the beauty of timeless simplicity in its spaces\, made possible in today&rsquo\;s modern world with high-style\, high-performing apartments.<br />\n<br />\nFind a brand new one\, two or three-bedroom floor plan that perfectly fits your lifestyle\, in a one-of-a-kind community.
LOCATION:
UID:e.3083.10228
SEQUENCE:3
DTSTAMP:20260421T235937Z
URL:https://members.longmontchamber.org/events/details/ribbon-cutting-farm-haus-apartments-10228
END:VEVENT

END:VCALENDAR
