BEGIN:VCALENDAR
VERSION:2.0
PRODID:-//ChamberMaster//Event Calendar 2.0//EN
METHOD:PUBLISH
X-PUBLISHED-TTL:P3D
REFRESH-INTERVAL:P3D
CALSCALE:GREGORIAN
BEGIN:VEVENT
DTSTART:20250717T220000Z
DTEND:20250717T230000Z
X-MICROSOFT-CDO-ALLDAYEVENT:FALSE
SUMMARY:Ribbon Cutting | Fire & Ice Wellness
DESCRIPTION:Join us in celebrating Fire & Ice Wellness!\n\n\n\nAbout Fire & Ice Wellness\n\nWe are a modern wellness boutique offering infrared sauna\, cold plunge tub\, red light therapy\, cryo chamber\, salt therapy\, compression therapy\, oxygen therapy and more! Our mission is to improve cellular health so that people can live better\, stronger and longer.
X-ALT-DESC;FMTTYPE=text/html:Join us in celebrating Fire &amp\; Ice Wellness!<br />\n<br />\n<strong>About Fire &amp\; Ice Wellness</strong>\n<div color:="" font-feature-settings:="" font-kerning:="" font-optical-sizing:="" font-variation-settings:="" helvetica="" margin:="" padding:="" segoe="" ui="" vertical-align:="" web="" west="">\n<p><span style="font-size:16px\;">We are a modern wellness boutique offering infrared sauna\, cold plunge tub\, red light therapy\, cryo chamber\, salt therapy\, compression therapy\, oxygen therapy and more! Our mission is to improve cellular health so that people can live better\, stronger and longer.&nbsp\;</span></p>\n</div>\n
LOCATION:
UID:e.3083.13525
SEQUENCE:3
DTSTAMP:20260421T111143Z
URL:https://members.longmontchamber.org/events/details/ribbon-cutting-fire-ice-wellness-13525
END:VEVENT

END:VCALENDAR
