BEGIN:VCALENDAR
VERSION:2.0
PRODID:-//ChamberMaster//Event Calendar 2.0//EN
METHOD:PUBLISH
X-PUBLISHED-TTL:P3D
REFRESH-INTERVAL:P3D
CALSCALE:GREGORIAN
BEGIN:VEVENT
DTSTART:20191024T220000Z
DTEND:20191024T230000Z
X-MICROSOFT-CDO-ALLDAYEVENT:FALSE
SUMMARY:Ribbon Cutting: Firehouse Art Center
DESCRIPTION:Join us at a Ribbon Cutting for Firehouse Art Center!\n\n\n\nContemporary art center featuring national and local exhibitions\, education\, film\, music and dance.\n\n\n\nRibbon Cuttings are a great way to celebrate our members\, network\, meet fellow Chamber Members and learn something about Longmont businesses.
X-ALT-DESC;FMTTYPE=text/html:Join us at a Ribbon Cutting for Firehouse Art Center!<br />\n<br />\n<span style="color: rgb(81\, 83\, 81)\; font-family: CenturyGothic\, Arial\, Helvetica\, sans-serif\; font-size: 15px\;">Contemporary art center featuring national and local exhibitions\, education\, film\, music and dance.</span><br />\n<br />\n<span style="color: rgb(0\, 0\, 0)\; font-family: tahoma\; font-size: 14px\;">Ribbon Cuttings are a great way to celebrate our&nbsp\;members\, network\, meet fellow Chamber Members and learn something about Longmont businesses.</span>
LOCATION:667 Fourth Ave. Longmont\, CO 80501
UID:e.3083.7147
SEQUENCE:3
DTSTAMP:20260426T011153Z
URL:https://members.longmontchamber.org/events/details/ribbon-cutting-firehouse-art-center-7147
END:VEVENT

END:VCALENDAR
