BEGIN:VCALENDAR
VERSION:2.0
PRODID:-//ChamberMaster//Event Calendar 2.0//EN
METHOD:PUBLISH
X-PUBLISHED-TTL:P3D
REFRESH-INTERVAL:P3D
CALSCALE:GREGORIAN
BEGIN:VEVENT
DTSTART:20250410T220000Z
DTEND:20250410T230000Z
X-MICROSOFT-CDO-ALLDAYEVENT:FALSE
SUMMARY:Ribbon Cutting | Flatirons Bank
DESCRIPTION:Join us in celebrating Flatirons Bank!\n\n\n\nFlatirons Bank - LONGMONT\, CO\n\nFlatirons Bank is excited to announce the opening of its new branch in Longmont at 428 Kimbark St.\, Longmont\, CO 80501. This new\, larger location is a testament to the bank's commitment to serving Longmont's local businesses\, individuals\, and nonprofits. As part of this transition\, the previous Longmont branch location at 522 4th Ave is closed and no longer available for banking services. \n\nTo celebrate this milestone\, Flatirons Bank invites the Longmont community to an Open House on Thursday\, April 10\, 2024\, at 4:00 pm. The event will feature a ribbon-cutting ceremony with the Longmont Chamber of Commerce\, refreshments\, and a first look at the bank's beautifully designed branch. \n\n"We are excited to further expand our presence and commitment in Longmont and provide an elevated banking experience in this new space\," said Kent Jones\, President and CEO of Flatirons Bank. "This branch embodies our dedication to the Longmont community\, and we're looking forward to welcoming our clients and neighbors." \n\nThe new space was thoughtfully designed by Eric Smith Associates\, P.C.\, with a modern\, welcoming atmosphere. The updated lobby layout and Colorado-inspired natural elements are designed to foster the local\, relationship-focused approach that Flatirons Bank is known for in the community. \n\nFor any questions regarding the move and new branch\, please contact Flatirons Bank at 303.530.4999 or visit www.flatirons.bank.\n\n \n\nAbout Flatirons Bank: Flatirons Bank is a full-service independent bank dedicated to serving the financial needs of individuals\, businesses\, and nonprofits in Boulder County and beyond. With a commitment to exceptional personalized service\, innovative solutions\, and local impact\, Flatirons Bank strives to provide an unparalleled banking experience. Learn more at www.flatirons.bank.
X-ALT-DESC;FMTTYPE=text/html:Join us in celebrating Flatirons Bank!<br />\n<br />\n<strong>Flatirons Bank - LONGMONT\, CO</strong>\n<div color:="" font-feature-settings:="" font-kerning:="" font-optical-sizing:="" font-variation-settings:="" helvetica="" margin:="" padding:="" segoe="" ui="" vertical-align:="" web="" west="">\n<p class="x_x_MsoNormal" style="margin: 0in\; font-size: 12pt\; font-family: Aptos\, sans-serif\; color: rgb(36\, 36\, 36)\;"><span data-olk-copy-source="MessageBody" style="border: 0px\; font-style: inherit\; font-variant: inherit\; font-weight: inherit\; font-stretch: inherit\; font-size: 11pt\; line-height: inherit\; font-family: inherit\; font-optical-sizing: inherit\; font-size-adjust: inherit\; font-kerning: inherit\; font-feature-settings: inherit\; font-variation-settings: inherit\; margin: 0px\; padding: 0px\; vertical-align: baseline\; color: inherit\;">Flatirons Bank is excited to announce the opening of its new branch in Longmont at 428 Kimbark St.\, Longmont\, CO 80501. This new\, larger location is a testament to the bank&#39\;s commitment to serving Longmont&#39\;s local businesses\, individuals\, and nonprofits. As part of this transition\, the previous Longmont branch location at 522 4th Ave is closed and no longer available for banking services.</span><span style="border: 0px\; font-style: inherit\; font-variant: inherit\; font-weight: inherit\; font-stretch: inherit\; font-size: 11pt\; line-height: inherit\; font-family: inherit\; font-optical-sizing: inherit\; font-size-adjust: inherit\; font-kerning: inherit\; font-feature-settings: inherit\; font-variation-settings: inherit\; margin: 0px\; padding: 0px\; vertical-align: baseline\; color: inherit\;">&nbsp\;</span></p>\n\n<p class="x_x_MsoNormal" style="margin: 0in\; font-size: 12pt\; font-family: Aptos\, sans-serif\; color: rgb(36\, 36\, 36)\;"><span style="border: 0px\; font-style: inherit\; font-variant: inherit\; font-weight: inherit\; font-stretch: inherit\; font-size: 11pt\; line-height: inherit\; font-family: inherit\; font-optical-sizing: inherit\; font-size-adjust: inherit\; font-kerning: inherit\; font-feature-settings: inherit\; font-variation-settings: inherit\; margin: 0px\; padding: 0px\; vertical-align: baseline\; color: inherit\;">To celebrate this milestone\, Flatirons Bank invites the Longmont community to an Open House on Thursday\, April 10\, 2024\, at 4:00 pm. The event will feature a ribbon-cutting ceremony with the Longmont Chamber of Commerce\, refreshments\, and a first look at the bank&#39\;s beautifully designed branch.&nbsp\;</span></p>\n\n<p class="x_x_MsoNormal" style="margin: 0in\; font-size: 12pt\; font-family: Aptos\, sans-serif\; color: rgb(36\, 36\, 36)\;"><span style="border: 0px\; font-style: inherit\; font-variant: inherit\; font-weight: inherit\; font-stretch: inherit\; font-size: 11pt\; line-height: inherit\; font-family: inherit\; font-optical-sizing: inherit\; font-size-adjust: inherit\; font-kerning: inherit\; font-feature-settings: inherit\; font-variation-settings: inherit\; margin: 0px\; padding: 0px\; vertical-align: baseline\; color: inherit\;">&quot\;We are excited to further expand our presence and commitment in Longmont and provide an elevated banking experience in this new space\,&quot\; said Kent Jones\, President and CEO of Flatirons Bank. &quot\;This branch embodies our dedication to the Longmont community\, and we&#39\;re looking forward to welcoming our clients and neighbors.&quot\;&nbsp\;</span></p>\n\n<p class="x_x_MsoNormal" style="margin: 0in\; font-size: 12pt\; font-family: Aptos\, sans-serif\; color: rgb(36\, 36\, 36)\;"><span style="border: 0px\; font-style: inherit\; font-variant: inherit\; font-weight: inherit\; font-stretch: inherit\; font-size: 11pt\; line-height: inherit\; font-family: inherit\; font-optical-sizing: inherit\; font-size-adjust: inherit\; font-kerning: inherit\; font-feature-settings: inherit\; font-variation-settings: inherit\; margin: 0px\; padding: 0px\; vertical-align: baseline\; color: inherit\;">The new space was thoughtfully designed by Eric Smith Associates\, P.C.\, with a modern\, welcoming atmosphere. The updated lobby layout and Colorado-inspired natural elements are designed to foster the local\, relationship-focused approach that Flatirons Bank is known for in the community.&nbsp\;</span></p>\n\n<p class="x_x_MsoNormal" style="margin: 0in\; font-size: 12pt\; font-family: Aptos\, sans-serif\; color: rgb(36\, 36\, 36)\;"><span style="border: 0px\; font-style: inherit\; font-variant: inherit\; font-weight: inherit\; font-stretch: inherit\; font-size: 11pt\; line-height: inherit\; font-family: inherit\; font-optical-sizing: inherit\; font-size-adjust: inherit\; font-kerning: inherit\; font-feature-settings: inherit\; font-variation-settings: inherit\; margin: 0px\; padding: 0px\; vertical-align: baseline\; color: inherit\;">For any questions regarding the move and new branch\, please contact Flatirons Bank at 303.530.4999 or visit www.flatirons.bank.</span></p>\n\n<p class="x_x_MsoNormal" style="margin: 0in\; font-size: 12pt\; font-family: Aptos\, sans-serif\; color: rgb(36\, 36\, 36)\;"><span style="border: 0px\; font-style: inherit\; font-variant: inherit\; font-weight: inherit\; font-stretch: inherit\; font-size: 11pt\; line-height: inherit\; font-family: inherit\; font-optical-sizing: inherit\; font-size-adjust: inherit\; font-kerning: inherit\; font-feature-settings: inherit\; font-variation-settings: inherit\; margin: 0px\; padding: 0px\; vertical-align: baseline\; color: inherit\;">&nbsp\;</span></p>\n\n<p class="x_x_MsoNormal" style="margin: 0in\; font-size: 12pt\; font-family: Aptos\, sans-serif\; color: rgb(36\, 36\, 36)\;"><b><span style="border: 0px\; font-style: inherit\; font-variant: inherit\; font-weight: inherit\; font-stretch: inherit\; font-size: 11pt\; line-height: inherit\; font-family: inherit\; font-optical-sizing: inherit\; font-size-adjust: inherit\; font-kerning: inherit\; font-feature-settings: inherit\; font-variation-settings: inherit\; margin: 0px\; padding: 0px\; vertical-align: baseline\; color: inherit\;">About Flatirons Bank:</span></b><span style="border: 0px\; font-style: inherit\; font-variant: inherit\; font-weight: inherit\; font-stretch: inherit\; font-size: 11pt\; line-height: inherit\; font-family: inherit\; font-optical-sizing: inherit\; font-size-adjust: inherit\; font-kerning: inherit\; font-feature-settings: inherit\; font-variation-settings: inherit\; margin: 0px\; padding: 0px\; vertical-align: baseline\; color: inherit\;">&nbsp\;Flatirons Bank is a full-service independent bank dedicated to serving the financial needs of individuals\, businesses\, and nonprofits in Boulder County and beyond. With a commitment to exceptional personalized service\, innovative solutions\, and local impact\, Flatirons Bank strives to provide an unparalleled banking experience. Learn more at www.flatirons.bank.</span></p>\n</div>\n
LOCATION:
UID:e.3083.12672
SEQUENCE:3
DTSTAMP:20260421T142904Z
URL:https://members.longmontchamber.org/events/details/ribbon-cutting-flatirons-bank-12672
END:VEVENT

END:VCALENDAR
