BEGIN:VCALENDAR
VERSION:2.0
PRODID:-//ChamberMaster//Event Calendar 2.0//EN
METHOD:PUBLISH
X-PUBLISHED-TTL:P3D
REFRESH-INTERVAL:P3D
CALSCALE:GREGORIAN
BEGIN:VEVENT
DTSTART:20240321T220000Z
DTEND:20240321T230000Z
X-MICROSOFT-CDO-ALLDAYEVENT:FALSE
SUMMARY:Ribbon Cutting | Front Range CC
DESCRIPTION:Join us in celebrating our 2023 Legacy Business of the Year\, Front Range Community College! FRCC's Center for Integrated Manufacturing in Longmont is celebrating five years of training students for rewarding careers that help our community thrive.  \n\nThe college's state-of-the-art Center for Integrated Manufacturing is home to four high-tech advanced manufacturing programs:\n\n  Optics Technology\n\n  Automation & Engineering Technology\n\n  Electronics Engineering Technology\n\n  Precision Machining\n\nThe center was created with input from local businesses to help meet the evolving needs of next-generation manufacturing technologies. Come see how this facility provides industry-focused education\, giving students critical hands-on training so they can become the modern-day workers our local economy needs.\n\nAbout Front Range Community College:\n\nFRCC is the largest community college in Colorado with three campuses along the Front Range (in Longmont\, Fort Collins and Westminster). The open-access college focuses on the success of more than 27\,000 students annually in classes for college credit\, and more than 5\,000 people each year in business training and continuing education.\n\nThe college offers 200 degrees and certificates in a wide variety of programs. FRCC is the top transfer institution for the University of Colorado Boulder and Colorado State University. It also trains students for immediate employment in more than 35 high-demand fields.
X-ALT-DESC;FMTTYPE=text/html:<p font-size:="" new="" style="color: rgb(0\, 0\, 0)\; font-family: " times="">Join us in celebrating our 2023 Legacy Business of the Year\, Front Range Community College! FRCC&rsquo\;s Center for Integrated Manufacturing in Longmont is celebrating five years of training students for rewarding careers that help our community thrive. &#8239\;</p>\n\n<p font-size:="" new="" style="color: rgb(0\, 0\, 0)\; font-family: " times="">The college&rsquo\;s state-of-the-art Center for Integrated Manufacturing is home to four high-tech advanced manufacturing programs:</p>\n\n<p font-size:="" new="" style="color: rgb(0\, 0\, 0)\; font-family: " times="">&middot\; Optics Technology</p>\n\n<p font-size:="" new="" style="color: rgb(0\, 0\, 0)\; font-family: " times="">&middot\; Automation &amp\; Engineering Technology</p>\n\n<p font-size:="" new="" style="color: rgb(0\, 0\, 0)\; font-family: " times="">&middot\; Electronics Engineering Technology</p>\n\n<p font-size:="" new="" style="color: rgb(0\, 0\, 0)\; font-family: " times="">&middot\; Precision Machining</p>\n\n<p font-size:="" new="" style="color: rgb(0\, 0\, 0)\; font-family: " times="">The center was created with input from local businesses to help meet the evolving needs of next-generation manufacturing technologies. Come see how this facility provides industry-focused education\, giving students critical hands-on training so they can become the modern-day workers our local economy needs.</p>\n\n<p font-size:="" new="" style="color: rgb(0\, 0\, 0)\; font-family: " times="">About Front Range Community College:</p>\n\n<p font-size:="" new="" style="color: rgb(0\, 0\, 0)\; font-family: " times="">FRCC is the largest community college in Colorado&mdash\;with three campuses along the Front Range (in Longmont\, Fort Collins and Westminster). The open-access college focuses on the success of more than 27\,000 students annually in classes for college credit\, and more than 5\,000 people each year in business training and continuing education.</p>\n\n<p font-size:="" new="" style="color: rgb(0\, 0\, 0)\; font-family: " times="">The college offers 200 degrees and certificates in a wide variety of programs. FRCC is the top transfer institution for the University of Colorado Boulder and Colorado State University. It also trains students for immediate employment in more than 35 high-demand fields.</p>\n
LOCATION:FRCC Center for Integrated Manufacturing 1351S. Sunset St. in Longmont
UID:e.3083.9962
SEQUENCE:3
DTSTAMP:20260422T132707Z
URL:https://members.longmontchamber.org/events/details/ribbon-cutting-front-range-cc-9962
END:VEVENT

END:VCALENDAR
