BEGIN:VCALENDAR
VERSION:2.0
PRODID:-//ChamberMaster//Event Calendar 2.0//EN
METHOD:PUBLISH
X-PUBLISHED-TTL:P3D
REFRESH-INTERVAL:P3D
CALSCALE:GREGORIAN
BEGIN:VEVENT
DTSTART:20191022T223000Z
DTEND:20191022T233000Z
X-MICROSOFT-CDO-ALLDAYEVENT:FALSE
SUMMARY:Ribbon Cutting: Front Range Leading Ladies
DESCRIPTION:Join us at a Ribbon Cutting for Front Range Leading Ladies!\n\n\n\nFront Range Leading Ladies is a group of like-minded women who work to grow their businesses through mutual support\, peer-mentoring\, learning and lead referrals.\n\nOver breakfast meetings twice per month in Longmont we look to grow our knowledge\, business skills and opportunities through:\n\n	Using our combined expertise and various skillsets to coach each other on subjects such as business planning\, marketing\, selling\, websites\, resources etc.\n\n\n\n	Inviting third party speakers in to add to our knowledge base and to give updates on issues that affect all of our businesses\n\n\n\n	Holding each other accountable for our business growth and activity and coaching each other on communicating our unique offerings\n\n\n\n	Creating new opportunities for business for each other through lead referrals or introductions\n\nThe group is looking for new members! And while this is a women's group we would love to have the support and recommendation or everyone in the community!  Come by and meet us\, have some drinks\, snacks and maybe win a goodie bag!\n\n\n\n\n\nRibbon Cuttings are a great way to celebrate our members\, network\, meet fellow Chamber Members and learn something about Longmont businesses.
X-ALT-DESC;FMTTYPE=text/html:<span style="font-size:14px\;"><span style="font-family:tahoma\;">Join us at a Ribbon Cutting for Front Range Leading Ladies!<br />\n<br />\nFront Range Leading Ladies is a group of like-minded women who work to grow their businesses through mutual support\, peer-mentoring\, learning and lead referrals.<br />\nOver breakfast meetings twice per month in Longmont we look to grow our knowledge\, business skills and opportunities through:</span></span>\n<ul>\n	<li style="font-stretch:normal\;"><span style="font-size:14px\;"><span style="font-family:tahoma\;"><span style="font-stretch:normal\;"><span style="font-kerning:none\;">Using our combined expertise and various skillsets to coach each other on subjects such as business planning\, marketing\, selling\, websites\, resources etc.</span></span></span></span></li>\n</ul>\n\n<ul>\n	<li style="font-stretch:normal\;"><span style="font-size:14px\;"><span style="font-family:tahoma\;"><span style="font-stretch:normal\;"><span style="font-kerning:none\;">Inviting third party speakers in to add to our knowledge base and to give updates on issues that affect all of our businesses</span></span></span></span></li>\n</ul>\n\n<ul>\n	<li style="font-stretch:normal\;"><span style="font-size:14px\;"><span style="font-family:tahoma\;"><span style="font-stretch:normal\;"><span style="font-kerning:none\;">Holding each other accountable for our business growth and activity and coaching each other on communicating our unique offerings</span></span></span></span></li>\n</ul>\n\n<ul>\n	<li style="font-stretch:normal\;"><span style="font-size:14px\;"><span style="font-family:tahoma\;"><span style="font-stretch:normal\;"><span style="font-kerning:none\;">Creating new opportunities for business for each other through lead referrals or introductions</span></span></span></span></li>\n</ul>\n<span style="font-size:14px\;"><span style="font-family:tahoma\;">The group is looking for new members! And while this is a women&rsquo\;s group we would love to have the support and recommendation or everyone in the community! &nbsp\;Come by and meet us\, have some drinks\, snacks and maybe win a goodie bag!<br />\n<br />\n<br />\n<span style="color: rgb(0\, 0\, 0)\;">Ribbon Cuttings are a great way to celebrate our&nbsp\;members\, network\, meet fellow Chamber Members and learn something about Longmont businesses.</span></span></span>
LOCATION:DRF Real Estate\, 136 2nd Avenue C Niwot Colorado 80503
UID:e.3083.7146
SEQUENCE:3
DTSTAMP:20260426T005303Z
URL:https://members.longmontchamber.org/events/details/ribbon-cutting-front-range-leading-ladies-7146
END:VEVENT

END:VCALENDAR
