BEGIN:VCALENDAR
VERSION:2.0
PRODID:-//ChamberMaster//Event Calendar 2.0//EN
METHOD:PUBLISH
X-PUBLISHED-TTL:P3D
REFRESH-INTERVAL:P3D
CALSCALE:GREGORIAN
BEGIN:VEVENT
DTSTART:20240801T220000Z
DTEND:20240801T230000Z
X-MICROSOFT-CDO-ALLDAYEVENT:FALSE
SUMMARY:Ribbon Cutting | Full Circle Yoga
DESCRIPTION:Join us in celebrating Full Circle Yoga!\n\n\n\nAbout Full Circle Yoga\nWe feel fortunate to have so many great things to celebrate! Since changing ownership\, Full Circle Yoga has moved to a beautiful new location\, stood strong and made it through the pandemic\, rebranded\, and added local and international yoga retreats to our offerings. \n\nFollowing the Ribbon Cutting\, you may continue the celebration by staying for a free yoga class from 5:15-6:15 PM. \n\nIf you are new to FCY\, visit our space and meet our teachers! If you are one of our regulars\, please come to celebrate all you have helped to build by being part of this lovely community.  We will offer snacks\, refreshments\, an all-levels yoga flow\, and a few other fun surprises.
X-ALT-DESC;FMTTYPE=text/html:Join us in celebrating Full Circle Yoga!<br />\n<br />\n<strong>About Full Circle Yoga</strong>\n<p font-feature-settings:="" font-kerning:="" font-variant-alternates:="" font-variant-east-asian:="" font-variant-numeric:="" helvetica="">We feel fortunate to have so many great things to celebrate! Since changing ownership\, Full Circle Yoga has moved to a beautiful new location\, stood strong and made it through the pandemic\, rebranded\, and added local and international yoga retreats to our offerings.&nbsp\;</p>\n\n<p font-feature-settings:="" font-kerning:="" font-variant-alternates:="" font-variant-east-asian:="" font-variant-numeric:="" helvetica="" min-height:="">Following the Ribbon Cutting\, you may continue the celebration by staying for a free yoga class from 5:15-6:15 PM.&nbsp\;</p>\n\n<p font-feature-settings:="" font-kerning:="" font-variant-alternates:="" font-variant-east-asian:="" font-variant-numeric:="" helvetica="" min-height:="">If you are new to FCY\, visit our space and meet our teachers! If you are one of our regulars\, please come to celebrate all you have helped to build by being part of this lovely community.&nbsp\; We will offer snacks\, refreshments\, an all-levels yoga flow\, and a&nbsp\;few other fun surprises.&nbsp\;&nbsp\;</p>\n
LOCATION:
UID:e.3083.10173
SEQUENCE:3
DTSTAMP:20260422T031402Z
URL:https://members.longmontchamber.org/events/details/ribbon-cutting-full-circle-yoga-10173
END:VEVENT

END:VCALENDAR
