BEGIN:VCALENDAR
VERSION:2.0
PRODID:-//ChamberMaster//Event Calendar 2.0//EN
METHOD:PUBLISH
X-PUBLISHED-TTL:P3D
REFRESH-INTERVAL:P3D
CALSCALE:GREGORIAN
BEGIN:VEVENT
DTSTART:20191112T230000Z
DTEND:20191113T000000Z
X-MICROSOFT-CDO-ALLDAYEVENT:FALSE
SUMMARY:Ribbon Cutting: Gateway Montessori School
DESCRIPTION:Join us at a Groundbreaking Ceremony for Gateway Montessori School!\n\n\n\nThe premier Montessori nonprofit preschool and kindergarten serving Longmont families for over 30 years.\n\n\n\nThis is a great way to celebrate our members\, network\, meet fellow Chamber Members and learn something about Longmont businesses.
X-ALT-DESC;FMTTYPE=text/html:Join us at a Groundbreaking Ceremony for Gateway Montessori School!<br />\n<br />\n<span style="color: rgb(81\, 83\, 81)\; font-family: CenturyGothic\, Arial\, Helvetica\, sans-serif\; font-size: 15px\;">The premier Montessori nonprofit preschool and kindergarten serving Longmont families for over 30 years.</span><br />\n<br />\n<span style="color: rgb(0\, 0\, 0)\; font-family: tahoma\; font-size: 14px\;">This is a great way to celebrate our&nbsp\;members\, network\, meet fellow Chamber Members and learn something about Longmont businesses.</span>
LOCATION:1500 9th Ave. Longmont\, CO 80501
UID:e.3083.7332
SEQUENCE:3
DTSTAMP:20260425T232914Z
URL:https://members.longmontchamber.org/events/details/ribbon-cutting-gateway-montessori-school-7332
END:VEVENT

END:VCALENDAR
