BEGIN:VCALENDAR
VERSION:2.0
PRODID:-//ChamberMaster//Event Calendar 2.0//EN
METHOD:PUBLISH
X-PUBLISHED-TTL:P3D
REFRESH-INTERVAL:P3D
CALSCALE:GREGORIAN
BEGIN:VEVENT
DTSTART:20250529T220000Z
DTEND:20250529T230000Z
X-MICROSOFT-CDO-ALLDAYEVENT:FALSE
SUMMARY:Ribbon Cutting | Go Green Flooring
DESCRIPTION:Join us in celebrating Go Green Flooring!\n\n\n\nAbout Go Green Flooring\n\nGo Green Flooring is a family-owned business dedicated to providing sustainable flooring and surfaces.  We're committed to both the environment and our customers\, specializing in eco-conscious options such as wool carpet\, cork\, and natural linoleum\, as well as environmentally friendly synthetic carpets\, hardwood\, tile\, and countertops.  Our knowledgeable sales staff is ready to assist you in making the right choices for your flooring needs\, ensuring you find the perfect balance of function\, style\, and sustainability.  Our professional installers provide expert craftsmanship on every job\, so you can be confident in the beauty and longevity of your investment.  We've built our reputation on exceptional customer care and integrity\, and we're here to make sustainable design both accessible and inspiring.  We're open to the public\, interior designers\, and custom home builders\, offering personalized service and expert guidance every step of the way.
X-ALT-DESC;FMTTYPE=text/html:Join us in celebrating Go Green Flooring!<br />\n<br />\n<strong>About Go Green Flooring</strong>\n<div color:="" font-feature-settings:="" font-kerning:="" font-optical-sizing:="" font-variation-settings:="" helvetica="" margin:="" padding:="" segoe="" ui="" vertical-align:="" web="" west="">\n<p><span data-olk-copy-source="MessageBody">Go Green Flooring is a family-owned business dedicated to providing sustainable flooring and surfaces.&nbsp\; We&#39\;re committed to both the environment and our customers\, specializing in eco-conscious options such as wool carpet\, cork\, and natural linoleum\, as well as environmentally friendly synthetic carpets\, hardwood\, tile\, and countertops.&nbsp\; Our knowledgeable sales staff is ready to assist you in making the right choices for your flooring needs\, ensuring you find the perfect balance of function\, style\, and sustainability.&nbsp\; Our professional installers provide expert craftsmanship on every job\, so you can be confident in the beauty and longevity of your investment.&nbsp\; We&#39\;ve built our reputation on exceptional customer care and integrity\, and we&#39\;re here to make sustainable design both accessible and inspiring.&nbsp\; We&#39\;re open to the public\, interior designers\, and custom home builders\, offering personalized service and expert guidance every step of the way.</span></p>\n</div>\n
LOCATION:
UID:e.3083.13454
SEQUENCE:3
DTSTAMP:20260421T143002Z
URL:https://members.longmontchamber.org/events/details/ribbon-cutting-go-green-flooring-13454
END:VEVENT

END:VCALENDAR
