BEGIN:VCALENDAR
VERSION:2.0
PRODID:-//ChamberMaster//Event Calendar 2.0//EN
METHOD:PUBLISH
X-PUBLISHED-TTL:P3D
REFRESH-INTERVAL:P3D
CALSCALE:GREGORIAN
BEGIN:VEVENT
DTSTART:20250826T220000Z
DTEND:20250826T230000Z
X-MICROSOFT-CDO-ALLDAYEVENT:FALSE
SUMMARY:Ribbon Cutting | Go Painting Front Range
DESCRIPTION:Join us in celebrating Go Painting Front Range!\n\n\n\nAbout Go Painting Front Range\n\nAt Go Painting of the Front Range\, we specialize in serving the commercial\, HOA\, multifamily\, and business facilities industries. Our mission is to serve community managers\, property management groups\, owner and investment groups\, facility maintenance teams and other key stakeholders while providing an experience that is unique to the industry. As your partner we provide first-in-class communication\, quality and timelines making projects painless and simple to manage.
X-ALT-DESC;FMTTYPE=text/html:Join us in celebrating Go Painting Front Range!<br />\n<br />\n<strong>About Go Painting Front Range</strong>\n<div color:="" font-feature-settings:="" font-kerning:="" font-optical-sizing:="" font-variation-settings:="" helvetica="" margin:="" padding:="" segoe="" ui="" vertical-align:="" web="" west="">\n<p>At Go Painting of the Front Range\, we specialize in serving the commercial\, HOA\, multifamily\, and business facilities industries. Our mission is to serve community managers\, property management groups\, owner and investment groups\, facility maintenance teams and other key stakeholders while providing an experience that is unique to the industry. As your partner we provide first-in-class communication\, quality and timelines making projects painless and simple to manage.&nbsp\;</p>\n</div>\n
LOCATION:Sherwin Williams Paint Store
UID:e.3083.13592
SEQUENCE:3
DTSTAMP:20260421T081614Z
URL:https://members.longmontchamber.org/events/details/ribbon-cutting-go-painting-front-range-13592
END:VEVENT

END:VCALENDAR
