BEGIN:VCALENDAR
VERSION:2.0
PRODID:-//ChamberMaster//Event Calendar 2.0//EN
METHOD:PUBLISH
X-PUBLISHED-TTL:P3D
REFRESH-INTERVAL:P3D
CALSCALE:GREGORIAN
BEGIN:VEVENT
DTSTART:20190905T220000Z
DTEND:20190905T230000Z
X-MICROSOFT-CDO-ALLDAYEVENT:FALSE
SUMMARY:Ribbon Cutting: Good Life Acupuncture
DESCRIPTION:Join us at a Ribbon Cutting for Good Life Acupuncture!\n\n\n\nWe are a holistic family medical center specializing in fertility\, pregnancy\, post-partum and pediatric support. We also specialize in chronic pain\, fibromyalgia\, and various eye diseases like dry eye and retinosa pigementosa. We use acupuncture\, herbs\, hypnotherapy\, nutrition advice and medical massage to care for you and your entire family.\n\n\n\nRibbon Cuttings are a great way to celebrate our members\, network\, meet fellow Chamber Members and learn something about Longmont businesses.
X-ALT-DESC;FMTTYPE=text/html:Join us at a Ribbon Cutting for Good Life Acupuncture!<br />\n<br />\n<span style="color: rgb(81\, 83\, 81)\; font-family: CenturyGothic\, Arial\, Helvetica\, sans-serif\; font-size: 15px\;">We are a holistic family medical center specializing in fertility\, pregnancy\, post-partum and pediatric support. We also specialize in chronic pain\, fibromyalgia\, and various eye diseases like dry eye and retinosa pigementosa. We use acupuncture\, herbs\, hypnotherapy\, nutrition advice and medical massage to care for you and your entire family.</span><br />\n<br />\n<span style="color: rgb(0\, 0\, 0)\; font-family: tahoma\; font-size: 14px\;">Ribbon Cuttings are a great way to celebrate our&nbsp\;members\, network\, meet fellow Chamber Members and learn something about Longmont businesses.</span>
LOCATION:1225 Ken Pratt Blvd. Suite 120 Longmont\, CO 80501
UID:e.3083.7113
SEQUENCE:3
DTSTAMP:20260426T024229Z
URL:https://members.longmontchamber.org/events/details/ribbon-cutting-good-life-acupuncture-7113
END:VEVENT

END:VCALENDAR
