BEGIN:VCALENDAR
VERSION:2.0
PRODID:-//ChamberMaster//Event Calendar 2.0//EN
METHOD:PUBLISH
X-PUBLISHED-TTL:P3D
REFRESH-INTERVAL:P3D
CALSCALE:GREGORIAN
BEGIN:VEVENT
DTSTART:20231128T230000Z
DTEND:20231129T000000Z
X-MICROSOFT-CDO-ALLDAYEVENT:FALSE
SUMMARY:Ribbon Cutting | Good Life Refuge
DESCRIPTION:Join us in celebrating Good Life Refuge!\n\n\n\nAbout Good Life Refuge\n\nThis amazing farm is a safe haven for abused and at-risk farm animals. \n\n\n\nOUR VALUES:\n\nEthical Treatment - We believe in the ethical treatment of all sentient beings.\n\nStewardship - We practice careful and responsible management of the organization and the animals entrusted to our care.\n\nEducation - We believe in the benefits of a plant-centric lifestyle for humans and animals.\n\nRelationships - We believe in strengthening and nurturing the bonds between humans and animals.
X-ALT-DESC;FMTTYPE=text/html:Join us in celebrating Good Life Refuge!<br />\n<br />\n<strong>About Good Life Refuge</strong>\n<div color:="" font-feature-settings:="" font-kerning:="" font-optical-sizing:="" font-variation-settings:="" helvetica="" margin:="" padding:="" segoe="" ui="" vertical-align:="" web="" west="">\n<p>This amazing farm is a safe haven for abused and at-risk farm animals.&nbsp\;<br />\n<br />\nOUR VALUES:</p>\n\n<p>Ethical Treatment - We believe in the ethical treatment of all sentient beings.</p>\n\n<p>Stewardship - We practice careful and responsible management of the organization and the animals entrusted to our care.</p>\n\n<p>Education - We believe in the benefits of a plant-centric lifestyle for humans and animals.</p>\n\n<p>Relationships - We believe in strengthening and nurturing the bonds between humans and animals.</p>\n</div>\n
LOCATION:13759 North 95th Street Longmont Colorado From 66\, head north on 95th Street. On left.
UID:e.3083.9986
SEQUENCE:3
DTSTAMP:20260422T183130Z
URL:https://members.longmontchamber.org/events/details/ribbon-cutting-good-life-refuge-9986
END:VEVENT

END:VCALENDAR
