BEGIN:VCALENDAR
VERSION:2.0
PRODID:-//ChamberMaster//Event Calendar 2.0//EN
METHOD:PUBLISH
X-PUBLISHED-TTL:P3D
REFRESH-INTERVAL:P3D
CALSCALE:GREGORIAN
BEGIN:VEVENT
DTSTART:20250224T230000Z
DTEND:20250225T000000Z
X-MICROSOFT-CDO-ALLDAYEVENT:FALSE
SUMMARY:Ribbon Cutting | Grand Opening Emergency Pet Clinic of Longmont
DESCRIPTION:Join us in celebrating Emergency Pet Clinic of Longmont!\n\n\n\nAbout Emergency Pet Clinic of Longmont\n\nEmergency veterinary care in Longmont.  At Emergency Pet Clinic of Longmont\, our veterinarians are specially trained to provide care for pets in emergency-situations.  We are available 24/7 and our veterinarians have been providing high-quality\, affordable emergency services for companion animals\, in Longmont and the surrounding area since 1987.
X-ALT-DESC;FMTTYPE=text/html:Join us in celebrating Emergency Pet Clinic of Longmont!<br />\n<br />\n<strong>About Emergency Pet Clinic of Longmont</strong>\n<div color:="" font-feature-settings:="" font-kerning:="" font-optical-sizing:="" font-variation-settings:="" helvetica="" margin:="" padding:="" segoe="" ui="" vertical-align:="" web="" west="">\n<p><!--StartFragment--><span data-olk-copy-source="MessageBody">Emergency veterinary care in Longmont.&nbsp\; At Emergency Pet Clinic of Longmont\, our veterinarians are specially trained to provide care for pets in&nbsp\;emergency-situations.&nbsp\; We are available 24/7 and our veterinarians have been providing high-quality\, affordable emergency services for companion animals\, in Longmont and the surrounding area since 1987.</span><!--EndFragment--></p>\n</div>\n
LOCATION:
UID:e.3083.10915
SEQUENCE:3
DTSTAMP:20260421T190621Z
URL:https://members.longmontchamber.org/events/details/ribbon-cutting-grand-opening-emergency-pet-clinic-of-longmont-10915
END:VEVENT

END:VCALENDAR
