BEGIN:VCALENDAR
VERSION:2.0
PRODID:-//ChamberMaster//Event Calendar 2.0//EN
METHOD:PUBLISH
X-PUBLISHED-TTL:P3D
REFRESH-INTERVAL:P3D
CALSCALE:GREGORIAN
BEGIN:VEVENT
DTSTART:20231020T220000Z
DTEND:20231020T230000Z
X-MICROSOFT-CDO-ALLDAYEVENT:FALSE
SUMMARY:Ribbon Cutting & Grand Opening | Spitz Mediterranean Restaurant
DESCRIPTION:Join us in celebrating the Grand Opening of Spitz Mediterranean Restaurant!\n\n\n\nAbout Spitz Mediterranean\n\nSpitz is a fast casual restaurant that offers a fresh\, healthy\, delicious take on made-from-scratch Mediterranean\, Greek & American favorites. We're named after the classic vertical method of broiling proteins that ensures a flavorful taste\, and our menu includes: Overflowing wraps\, rich salads & bowls\, zesty gyros\, falafel\, award-winning fries & more. Our bar features a rotating selection of craft beers\, freshly-made sangria & craft cocktails + weekly wine and drink specials.\n\nWe're Family-friendly\, Paleo-friendly\, Keto-friendly\, with a Vegan menu + Gluten-Free and Dairy-Free options. Did we mention we have games (for kids as well as adults) and a dog-friendly patio?!
X-ALT-DESC;FMTTYPE=text/html:Join us in celebrating the Grand Opening of Spitz Mediterranean Restaurant!<br />\n<br />\n<strong>About Spitz Mediterranean</strong>\n<div color:="" font-feature-settings:="" font-kerning:="" font-optical-sizing:="" font-variation-settings:="" helvetica="" margin:="" padding:="" segoe="" ui="" vertical-align:="" web="" west="">\n<p style="margin: 0px\; padding: 10px 0px 0px\; box-sizing: border-box\; color: rgb(111\, 114\, 135)\; font-size: 16px\; line-height: 1.5rem\; font-family: &quot\;Neue Plak&quot\;\, -apple-system\, BlinkMacSystemFont\, Roboto\, &quot\;Helvetica Neue&quot\;\, Helvetica\, Tahoma\, Arial\, sans-serif\;"><span style="font-family:tahoma\;"><span style="font-size:14px\;">Spitz is a fast casual restaurant that offers a fresh\, healthy\, delicious take on made-from-scratch Mediterranean\, Greek &amp\; American favorites. We&#39\;re named after the classic vertical method of broiling proteins that ensures a flavorful taste\, and our menu includes: Overflowing wraps\, rich salads &amp\; bowls\, zesty gyros\, falafel\, award-winning fries &amp\; more. Our bar features a rotating selection of craft beers\, freshly-made sangria &amp\; craft cocktails + weekly wine and drink specials.</span></span></p>\n\n<p style="margin: 0px\; padding: 10px 0px 0px\; box-sizing: border-box\; color: rgb(111\, 114\, 135)\; font-size: 16px\; line-height: 1.5rem\; font-family: &quot\;Neue Plak&quot\;\, -apple-system\, BlinkMacSystemFont\, Roboto\, &quot\;Helvetica Neue&quot\;\, Helvetica\, Tahoma\, Arial\, sans-serif\;"><span style="font-family:tahoma\;"><span style="font-size:14px\;">We&#39\;re Family-friendly\, Paleo-friendly\, Keto-friendly\, with a Vegan menu + Gluten-Free and Dairy-Free options. Did we mention we have games (for kids as well as adults) and a dog-friendly patio?!</span></span></p>\n</div>\n
LOCATION:Spitz Mediterranean Restaurant Village at the Peaks 1230 South Hover St Ste. B-100 Longmont\, CO 80504
UID:e.3083.9970
SEQUENCE:3
DTSTAMP:20260422T215224Z
URL:https://members.longmontchamber.org/events/details/ribbon-cutting-grand-opening-spitz-mediterranean-restaurant-9970
END:VEVENT

END:VCALENDAR
