BEGIN:VCALENDAR
VERSION:2.0
PRODID:-//ChamberMaster//Event Calendar 2.0//EN
METHOD:PUBLISH
X-PUBLISHED-TTL:P3D
REFRESH-INTERVAL:P3D
CALSCALE:GREGORIAN
BEGIN:VEVENT
DTSTART:20241010T220000Z
DTEND:20241010T230000Z
X-MICROSOFT-CDO-ALLDAYEVENT:FALSE
SUMMARY:Ribbon Cutting | Grand Opening Spruce Cafe
DESCRIPTION:Join us in celebrating Spruce Cafe!\n\n\n\nAbout Spruce Cafe\n\nWelcome to our beloved bakery and caf \, proudly serving the Boulder community since 1992. We specialize in freshly baked pastries\, hearty breakfast burritos\, and our signature house-made chai\, all paired perfectly with Kaladi coffee.\n\nOur unique\, in-house baked scones are a standout\, with flavors like our delightful blueberry maple pecan scone that keeps our customers coming back for more. Come savor the warmth and charm of our caf \, where every bite is a celebration of flavor and community!
X-ALT-DESC;FMTTYPE=text/html:Join us in celebrating&nbsp\;Spruce Cafe!<br />\n<br />\n<strong>About Spruce Cafe</strong>\n<div color:="" font-feature-settings:="" font-kerning:="" font-optical-sizing:="" font-variation-settings:="" helvetica="" margin:="" padding:="" segoe="" ui="" vertical-align:="" web="" west="">\n<p data-olk-copy-source="MessageBody">Welcome to our beloved bakery and caf&eacute\;\, proudly serving the Boulder community since 1992. We specialize in freshly baked pastries\, hearty breakfast burritos\, and our signature house-made chai\, all paired perfectly with Kaladi coffee.</p>\n\n<p>Our unique\, in-house baked scones are a standout\, with flavors like our delightful blueberry maple pecan scone that keeps our customers coming back for more. Come savor the warmth and charm of our caf&eacute\;\, where every bite is a celebration of flavor and community!</p>\n\n<div>&nbsp\;</div>\n\n<div>\n<div data-smartmail="gmail_signature" dir="ltr">\n<div dir="ltr">&nbsp\;</div>\n</div>\n</div>\n\n<div>&nbsp\;</div>\n</div>\n
LOCATION:
UID:e.3083.10237
SEQUENCE:3
DTSTAMP:20260422T013755Z
URL:https://members.longmontchamber.org/events/details/ribbon-cutting-grand-opening-spruce-cafe-10237
END:VEVENT

END:VCALENDAR
