BEGIN:VCALENDAR
VERSION:2.0
PRODID:-//ChamberMaster//Event Calendar 2.0//EN
METHOD:PUBLISH
X-PUBLISHED-TTL:P3D
REFRESH-INTERVAL:P3D
CALSCALE:GREGORIAN
BEGIN:VEVENT
DTSTART:20220714T220000Z
DTEND:20220714T230000Z
X-MICROSOFT-CDO-ALLDAYEVENT:FALSE
SUMMARY:Ribbon Cutting | Growing Gardens of Boulder County
DESCRIPTION:Join us in welcoming new member Growing Gardens of Boulder County to the Longmont Chamber community!\n\n\n\nAbout Growing Gardens of Boulder County\n\nGrowing Gardens enriches the lives of our community through sustainable urban agriculture. With farms in Boulder and Longmont\, we donate over 20\,000 pounds of produce yearly to low-income families.
X-ALT-DESC;FMTTYPE=text/html:Join us in welcoming new member Growing Gardens of Boulder County to the Longmont Chamber community!<br />\n<br />\n<strong>About Growing Gardens of Boulder County</strong><br />\nGrowing Gardens enriches the lives of our community through sustainable urban agriculture. With farms in Boulder and Longmont\, we donate over 20\,000 pounds of produce yearly to low-income families.
LOCATION:950 Lashley Street\, Longmont\, CO 80504
UID:e.3083.8824
SEQUENCE:3
DTSTAMP:20260423T193216Z
URL:https://members.longmontchamber.org/events/details/ribbon-cutting-growing-gardens-of-boulder-county-8824
END:VEVENT

END:VCALENDAR
