BEGIN:VCALENDAR
VERSION:2.0
PRODID:-//ChamberMaster//Event Calendar 2.0//EN
METHOD:PUBLISH
X-PUBLISHED-TTL:P3D
REFRESH-INTERVAL:P3D
CALSCALE:GREGORIAN
BEGIN:VEVENT
DTSTART:20240919T220000Z
DTEND:20240919T230000Z
X-MICROSOFT-CDO-ALLDAYEVENT:FALSE
SUMMARY:Ribbon Cutting | Healing Souls Ranch
DESCRIPTION:Join us in celebrating Healing Souls Ranch!\n\n\n\nAbout Healing Souls Ranch\n\n\n\nAt Healing Souls Ranch\, a 501(c)(3) nonprofit\, we rescue horses from slaughter\, provide sanctuary\, and adopt them into loving homes. We foster mutual healing bonds between horses and humans through therapy\, recovery\, and renewal.\n\nThis is a perfect opportunity to meet our incredible rescue horses\, hear about Angel's journey\, and learn about our mission to transform lives through equine therapy and compassionate rescue.\n\nWe're also excited to have a special demonstration by Project Veteran Wings\, showcasing their trained raptors! Whether you're a longtime supporter or new to our journey\, we'd love to see you there. Let's celebrate this exciting milestone together!
X-ALT-DESC;FMTTYPE=text/html:Join us in celebrating Healing Souls Ranch!<br />\n<br />\n<strong>About Healing Souls Ranch</strong><br />\n<br />\nAt Healing Souls Ranch\, a 501(c)(3) nonprofit\, we rescue horses from slaughter\, provide sanctuary\, and adopt them into loving homes. We foster mutual healing bonds between horses and humans through therapy\, recovery\, and renewal.\n<div color:="" font-feature-settings:="" font-kerning:="" font-optical-sizing:="" font-variation-settings:="" helvetica="" margin:="" padding:="" segoe="" ui="" vertical-align:="" web="" west="">\n<div color:="" font-size:="" segoe="" ui="">This is a perfect opportunity to meet our incredible rescue horses\, hear about Angel&rsquo\;s journey\, and learn about our mission to transform lives through equine therapy and compassionate rescue.</div>\n\n<div color:="" font-size:="" segoe="" ui="">We&rsquo\;re also excited to have a special demonstration by Project Veteran Wings\, showcasing their trained raptors! Whether you&#39\;re a longtime supporter or new to our journey\, we&rsquo\;d love to see you there. Let&#39\;s celebrate this exciting milestone together!</div>\n</div>\n
LOCATION:
UID:e.3083.10170
SEQUENCE:3
DTSTAMP:20260422T013624Z
URL:https://members.longmontchamber.org/events/details/ribbon-cutting-healing-souls-ranch-10170
END:VEVENT

END:VCALENDAR
