BEGIN:VCALENDAR
VERSION:2.0
PRODID:-//ChamberMaster//Event Calendar 2.0//EN
METHOD:PUBLISH
X-PUBLISHED-TTL:P3D
REFRESH-INTERVAL:P3D
CALSCALE:GREGORIAN
BEGIN:VEVENT
DTSTART:20200225T230000Z
DTEND:20200226T000000Z
X-MICROSOFT-CDO-ALLDAYEVENT:FALSE
SUMMARY:Ribbon Cutting: Heritage Title Company
DESCRIPTION:Join us at a Ribbon Cutting for Heritage Title Company!\n\n\n\nHeritage Title Company began serving the real estate industry in Colorado over 40 years ago. We are a premier provider of Real Estate transaction services for both the Residential and Commercial markets. Our services include such things as: title insurance\, settlement\, foreclosure guarantees\, oil and gas records\, construction loan disbursement\, ownership and encumbrance reports\, as well as the coordination of closing services for any commercial or residential property in the United States.\n\n\n\nHeritage Title Company is part of Fidelity National Financial\, a publicly traded (NY:FNF)\, Fortune 500 company that is at work in every state in the country. FNF also operates in Canada\, Mexico\, the Caribbean\, the Pacific and the United Kingdom. FNF's claims reserves are unmatched in the industry.
X-ALT-DESC;FMTTYPE=text/html:Join us at a Ribbon Cutting for Heritage Title Company!<br />\n<br />\n<span style="color: rgb(81\, 83\, 81)\; font-family: CenturyGothic\, Arial\, Helvetica\, sans-serif\; font-size: 15px\;">Heritage Title Company began serving the real estate industry in Colorado over 40 years ago. We are a premier provider of Real Estate transaction services for both the Residential and Commercial markets. Our services include such things as: title insurance\, settlement\, foreclosure guarantees\, oil and gas records\, construction loan disbursement\, ownership and encumbrance reports\, as well as the coordination of closing services for any commercial or residential property in the United States.</span><br style="box-sizing: content-box\; bottom: auto\; clear: none\; color: rgb(81\, 83\, 81)\; content: normal\; direction: inherit\; display: inline\; empty-cells: show\; float: none\; font-variant-numeric: inherit\; font-variant-east-asian: inherit\; font-stretch: inherit\; font-size: 15px\; font-family: CenturyGothic\, Arial\, Helvetica\, sans-serif\; left: auto\; line-height: inherit\; margin: 0px\; max-height: none\; max-width: none\; min-height: initial\; min-width: initial\; opacity: 1\; outline-offset: 0px\; overflow: visible\; padding: 0px\; position: static\; resize: none\; right: auto\; table-layout: auto\; text-overflow: clip\; top: auto\; vertical-align: baseline\; visibility: inherit\; word-break: inherit\; overflow-wrap: inherit\; z-index: auto\; background-image: none\; background-position: initial\; background-size: initial\; background-repeat: initial\; background-attachment: initial\; background-origin: initial\; background-clip: initial\; border: none\; border-collapse: separate\; border-radius: 0px\; height: auto\; width: auto\;" />\n<br style="box-sizing: content-box\; bottom: auto\; clear: none\; color: rgb(81\, 83\, 81)\; content: normal\; direction: inherit\; display: inline\; empty-cells: show\; float: none\; font-variant-numeric: inherit\; font-variant-east-asian: inherit\; font-stretch: inherit\; font-size: 15px\; font-family: CenturyGothic\, Arial\, Helvetica\, sans-serif\; left: auto\; line-height: inherit\; margin: 0px\; max-height: none\; max-width: none\; min-height: initial\; min-width: initial\; opacity: 1\; outline-offset: 0px\; overflow: visible\; padding: 0px\; position: static\; resize: none\; right: auto\; table-layout: auto\; text-overflow: clip\; top: auto\; vertical-align: baseline\; visibility: inherit\; word-break: inherit\; overflow-wrap: inherit\; z-index: auto\; background-image: none\; background-position: initial\; background-size: initial\; background-repeat: initial\; background-attachment: initial\; background-origin: initial\; background-clip: initial\; border: none\; border-collapse: separate\; border-radius: 0px\; height: auto\; width: auto\;" />\n<span style="color: rgb(81\, 83\, 81)\; font-family: CenturyGothic\, Arial\, Helvetica\, sans-serif\; font-size: 15px\;">Heritage Title Company is part of Fidelity National Financial\, a publicly traded (NY:FNF)\, Fortune 500 company that is at work in every state in the country. FNF also operates in Canada\, Mexico\, the Caribbean\, the Pacific and the United Kingdom. FNF&rsquo\;s claims reserves are unmatched in the industry.</span>
LOCATION:1375 Ken Pratt Boulevard\, Suite 500 Longmont\, CO 80501
UID:e.3083.7388
SEQUENCE:3
DTSTAMP:20260425T182620Z
URL:https://members.longmontchamber.org/events/details/ribbon-cutting-heritage-title-company-7388
END:VEVENT

END:VCALENDAR
