BEGIN:VCALENDAR
VERSION:2.0
PRODID:-//ChamberMaster//Event Calendar 2.0//EN
METHOD:PUBLISH
X-PUBLISHED-TTL:P3D
REFRESH-INTERVAL:P3D
CALSCALE:GREGORIAN
BEGIN:VEVENT
DTSTART:20191105T230000Z
DTEND:20191106T000000Z
X-MICROSOFT-CDO-ALLDAYEVENT:FALSE
SUMMARY:Ribbon Cutting: High Altitude Archery
DESCRIPTION:Join us at a Ribbon Cutting for High Altitude Archery!\n\n\n\nAt High Altitude Archery\, it's our goal to create a friendly environment where the beginner archer can get a solid foundation\, where the recreational archer can take their shooting to the next level.\n\n\n\nRibbon Cuttings are a great way to celebrate our members\, network\, meet fellow Chamber Members and learn something about Longmont businesses.
X-ALT-DESC;FMTTYPE=text/html:Join us at a Ribbon Cutting for High Altitude Archery!<br />\n<br />\n<span style="color: rgb(81\, 83\, 81)\; font-family: CenturyGothic\, Arial\, Helvetica\, sans-serif\; font-size: 15px\;">At High Altitude Archery\, it&rsquo\;s our goal to create a friendly environment where the beginner archer can get a solid foundation\, where the recreational archer can take their shooting to the next level.</span><br />\n<br />\n<span style="color: rgb(0\, 0\, 0)\; font-family: tahoma\; font-size: 14px\;">Ribbon Cuttings are a great way to celebrate our&nbsp\;members\, network\, meet fellow Chamber Members and learn something about Longmont businesses.</span>
LOCATION:455 Weaver Park Rd. Unit 500 Longmont\, CO 80501
UID:e.3083.7329
SEQUENCE:3
DTSTAMP:20260425T232819Z
URL:https://members.longmontchamber.org/events/details/ribbon-cutting-high-altitude-archery-7329
END:VEVENT

END:VCALENDAR
