BEGIN:VCALENDAR
VERSION:2.0
PRODID:-//ChamberMaster//Event Calendar 2.0//EN
METHOD:PUBLISH
X-PUBLISHED-TTL:P3D
REFRESH-INTERVAL:P3D
CALSCALE:GREGORIAN
BEGIN:VEVENT
DTSTART:20240119T230000Z
DTEND:20240120T000000Z
X-MICROSOFT-CDO-ALLDAYEVENT:FALSE
SUMMARY:Ribbon Cutting | High Plains Bank Grand Opening
DESCRIPTION:High Plains Bank Opens Offices at 385 Main Street in Downtown Longmont.\n\n \n\n385 Main Street\, an historic building located at Main and 4th Street in downtown Longmont\, is newly renovated and the new home to the High Plains Bank Trust and Loan Departments. This historic building was built in the early 1900's\, around the same time that High Plains Bank was founded in Flagler Colorado in 1908. \n\n \n\n"It's been fun and rewarding to update this beautiful downtown Longmont building into a vibrant work space for our Trust and Loan Departments\, " says Michelle Hovdesven with HPB.  The High Plains Bank Trust\, Estate and Investments Services department\, led by Jane Cox\, is now headquartered out of the first floor and our Loan Department\, led by Narciso Garibay\, is operating out of the second floor of the building.  Our downtown retail bank branch location and ATM continue operations at 600 Kimbark Street.\n\n\n \n\nPlease stop in and see us! We are so grateful to have a presence in downtown Longmont.  Stay after the ribbon cutting to take a tour through our whole new space!
X-ALT-DESC;FMTTYPE=text/html:<div color:="" font-feature-settings:="" font-kerning:="" font-optical-sizing:="" font-variation-settings:="" helvetica="" margin:="" padding:="" segoe="" ui="" vertical-align:="" web="" west=""><strong>High Plains Bank Opens Offices at 385 Main Street in Downtown&nbsp\;Longmont.</strong></div>\n\n<div color:="" font-feature-settings:="" font-kerning:="" font-optical-sizing:="" font-variation-settings:="" helvetica="" margin:="" padding:="" segoe="" ui="" vertical-align:="" web="" west="">&nbsp\;</div>\n\n<div color:="" font-feature-settings:="" font-kerning:="" font-optical-sizing:="" font-variation-settings:="" helvetica="" margin:="" padding:="" segoe="" ui="" vertical-align:="" web="" west="">385 Main Street\, an historic building located at Main and 4th Street in downtown Longmont\, is newly renovated and the new home to the High Plains Bank Trust and Loan Departments. This historic building was built in the early 1900&#39\;s\, around the same time that High Plains Bank was founded in Flagler Colorado in 1908.&nbsp\;</div>\n\n<div color:="" font-feature-settings:="" font-kerning:="" font-optical-sizing:="" font-variation-settings:="" helvetica="" margin:="" padding:="" segoe="" ui="" vertical-align:="" web="" west="">&nbsp\;</div>\n\n<div color:="" font-feature-settings:="" font-kerning:="" font-optical-sizing:="" font-variation-settings:="" helvetica="" margin:="" padding:="" segoe="" ui="" vertical-align:="" web="" west="">&quot\;It&#39\;s been fun and rewarding to update this beautiful downtown Longmont building into a vibrant work space for our&nbsp\;Trust and Loan Departments\, &quot\; says Michelle Hovdesven with HPB.&nbsp\; The High Plains&nbsp\;Bank Trust\, Estate and Investments Services department\, led by Jane Cox\, is now headquartered&nbsp\;out of the first floor and our Loan Department\, led&nbsp\;by Narciso&nbsp\;Garibay\, is operating out of the second floor of the building.&nbsp\; Our downtown retail bank branch location and ATM continue operations at 600 Kimbark Street.</div>\n\n<div color:="" font-feature-settings:="" font-kerning:="" font-optical-sizing:="" font-variation-settings:="" helvetica="" margin:="" padding:="" segoe="" ui="" vertical-align:="" web="" west="">\n<div>&nbsp\;</div>\n\n<div>Please stop in and see us! We are so grateful to have a presence&nbsp\;in downtown Longmont.&nbsp\; Stay after the ribbon cutting to take a tour through our whole new space!</div>\n</div>\n
LOCATION:PLEASE NOTE LOCATION 385 Main Street Longmont\, Colorado 80501
UID:e.3083.10006
SEQUENCE:3
DTSTAMP:20260422T152514Z
URL:https://members.longmontchamber.org/events/details/ribbon-cutting-high-plains-bank-grand-opening-10006
END:VEVENT

END:VCALENDAR
