BEGIN:VCALENDAR
VERSION:2.0
PRODID:-//ChamberMaster//Event Calendar 2.0//EN
METHOD:PUBLISH
X-PUBLISHED-TTL:P3D
REFRESH-INTERVAL:P3D
CALSCALE:GREGORIAN
BEGIN:VEVENT
DTSTART:20211109T230000Z
DTEND:20211110T000000Z
X-MICROSOFT-CDO-ALLDAYEVENT:FALSE
SUMMARY:Ribbon Cutting | High Plains Bank - New Location!
DESCRIPTION:High Plains Bank has opened a second location! Join us in welcoming them to their new home with a ribbon cutting.\n\n\n\nAbout High Plains Bank\n\nHigh Plains Bank began doing business in Longmont nine years ago. We started out as three people in a garage making house calls (it's a true story). We have been overwhelmed by how the community embraced and supported the bank. We are now 27 people strong in Longmont. Many on our core team lived in Longmont before we became bankers. Our experiences raising children\, being a part of the schools\, working with non-profit groups and building relationships with neighbors informed our approach to banking. We strive to be part of the fabric of the Longmont and St. Vrain communities   not just do business here.
X-ALT-DESC;FMTTYPE=text/html:High Plains Bank has opened a second location! Join us in welcoming them to their new home with a ribbon cutting.<br />\n<br />\n<strong>About High Plains Bank</strong><br />\nHigh Plains Bank began doing business in Longmont nine years ago. We started out as three people in a garage making house calls (it&rsquo\;s a true story). We have been overwhelmed by how the community embraced and supported the bank. We are now 27 people strong in Longmont. Many on our core team lived in Longmont before we became bankers. Our experiences raising children\, being a part of the schools\, working with non-profit groups and building relationships with neighbors informed our approach to banking. We strive to be part of the fabric of the Longmont and St. Vrain communities &ndash\; not just do business here.
LOCATION:2318 17th Avenue Longmont CO 80501
UID:e.3083.8618
SEQUENCE:3
DTSTAMP:20260424T092610Z
URL:https://members.longmontchamber.org/events/details/ribbon-cutting-high-plains-bank-new-location-8618
END:VEVENT

END:VCALENDAR
