BEGIN:VCALENDAR
VERSION:2.0
PRODID:-//ChamberMaster//Event Calendar 2.0//EN
METHOD:PUBLISH
X-PUBLISHED-TTL:P3D
REFRESH-INTERVAL:P3D
CALSCALE:GREGORIAN
BEGIN:VEVENT
DTSTART:20231012T220000Z
DTEND:20231012T230000Z
X-MICROSOFT-CDO-ALLDAYEVENT:FALSE
SUMMARY:Ribbon Cutting | Holistic Eye Care
DESCRIPTION:Join us in welcoming new member Holistic Eye Care to the Longmont Chamber community!\n\n\n\nAbout Holistic Eye Care\n\n \nLearn 3 Ways to Preserve Your Vision at the Holistic Eye Care Ribbon Cutting\n\nIn our visual world it's more important than ever to maintain good eyesight. From screens to do our work to dry Colorado air where we play our eyes are constantly asked to work overtime and it's always good to feed them. Immediately following our ribbon-cutting\, we will do an in person and Facebook Live Learning Event to Educate You on the 3 Ways to Preserve Your Vision. (Hint: one of those ways will be the tea served during the event).  We will have a prizes\, booths to learn about other integrative professionals and cookies! You will walk away with 3 things you can do today to help support your eyes and preserve your vision. For those with chronic eye issues like Dry Eye Disease\, Macular Degeneration\, Retinitis Pigmentosa\, or Diabetic Retinopathy these suggestions could be the difference between enjoying your life and blindness. \n\n \nWin prizes like a free 15 min cranio sacral intro session\, 25% off Introductory Vision Packages\, and Tibetan Foot Soaks. \n\n \n\nCome Learn and Taste the wonderful Vision-Supporting Tea and Ginger Cookies. We look forward to helping you learn how to support your own health. \n\n\nWe are based in Longmont\, Colorado and we see clients from all over the country who wish to take control of their health and learn how to improve their vision using a Quantum Healing approach. Using the knowledge of Microacupunture 48 taught by Dr Andy Rosenfarb\, coupled with the mind/body approach incorporated in Quantum Healing we have seen amazing vision improvement and stabilization for our clients. The Quantum Healing approach works by using holistic medicine to focus an intense burst of precise\, natural eye care on the eyes. It can set the body and the vision on a new trajectory of ultimate health and vitality that enable better sight\, living and enjoyment.
X-ALT-DESC;FMTTYPE=text/html:Join us in welcoming new member Holistic Eye Care to the Longmont Chamber community!<br />\n<br />\n<strong>About Holistic Eye Care</strong><br />\n&nbsp\;\n<div style="border: 0px\; font-variant-numeric: inherit\; font-variant-east-asian: inherit\; font-variant-alternates: inherit\; font-stretch: inherit\; font-size: 15px\; line-height: inherit\; font-family: &quot\;Segoe UI&quot\;\, &quot\;Segoe UI Web (West European)&quot\;\, &quot\;Segoe UI&quot\;\, -apple-system\, BlinkMacSystemFont\, Roboto\, &quot\;Helvetica Neue&quot\;\, sans-serif\; font-optical-sizing: inherit\; font-kerning: inherit\; font-feature-settings: inherit\; font-variation-settings: inherit\; margin: 0px\; padding: 0px\; vertical-align: baseline\; color: rgb(36\, 36\, 36)\;"><span style="font-size:14px\;">Learn 3 Ways to Preserve Your Vision at the&nbsp\;Holistic Eye Care&nbsp\;Ribbon Cutting</span></div>\n\n<div style="border: 0px\; font-variant-numeric: inherit\; font-variant-east-asian: inherit\; font-variant-alternates: inherit\; font-stretch: inherit\; font-size: 15px\; line-height: inherit\; font-family: &quot\;Segoe UI&quot\;\, &quot\;Segoe UI Web (West European)&quot\;\, &quot\;Segoe UI&quot\;\, -apple-system\, BlinkMacSystemFont\, Roboto\, &quot\;Helvetica Neue&quot\;\, sans-serif\; font-optical-sizing: inherit\; font-kerning: inherit\; font-feature-settings: inherit\; font-variation-settings: inherit\; margin: 0px\; padding: 0px\; vertical-align: baseline\; color: rgb(36\, 36\, 36)\;"><span style="font-size:14px\;">In our visual world it&#39\;s more important than ever to maintain good eyesight. From screens to do our work to dry Colorado air where we play our eyes are constantly asked to work overtime and it&#39\;s always good to feed them. Immediately following our ribbon-cutting\, we will do an in person&nbsp\;and&nbsp\;Facebook Live Learning Event to Educate You on the 3 Ways to Preserve Your Vision. (Hint: one of those ways will be the tea served during the event).&nbsp\; We will have a prizes\, booths to learn about other integrative professionals and cookies! You will walk away with 3 things you can do today to help support your eyes and preserve your vision. For those with chronic eye issues like Dry Eye Disease\, Macular Degeneration\, Retinitis Pigmentosa\, or Diabetic Retinopathy these suggestions could be the difference between enjoying your life and blindness.&nbsp\;</span></div>\n\n<div style="border: 0px\; font-variant-numeric: inherit\; font-variant-east-asian: inherit\; font-variant-alternates: inherit\; font-stretch: inherit\; font-size: 15px\; line-height: inherit\; font-family: &quot\;Segoe UI&quot\;\, &quot\;Segoe UI Web (West European)&quot\;\, &quot\;Segoe UI&quot\;\, -apple-system\, BlinkMacSystemFont\, Roboto\, &quot\;Helvetica Neue&quot\;\, sans-serif\; font-optical-sizing: inherit\; font-kerning: inherit\; font-feature-settings: inherit\; font-variation-settings: inherit\; margin: 0px\; padding: 0px\; vertical-align: baseline\; color: rgb(36\, 36\, 36)\;">&nbsp\;</div>\n<span style="font-size:14px\;"><span style="color: rgb(36\, 36\, 36)\; font-family: &quot\;Segoe UI&quot\;\, &quot\;Segoe UI Web (West European)&quot\;\, &quot\;Segoe UI&quot\;\, -apple-system\, BlinkMacSystemFont\, Roboto\, &quot\;Helvetica Neue&quot\;\, sans-serif\;">Win prizes like a free 15 min cranio sacral intro session\, 25% off Introductory Vision Packages\, and Tibetan Foot Soaks.&nbsp\;</span></span>\n\n<div style="border: 0px\; font-variant-numeric: inherit\; font-variant-east-asian: inherit\; font-variant-alternates: inherit\; font-stretch: inherit\; font-size: 15px\; line-height: inherit\; font-family: &quot\;Segoe UI&quot\;\, &quot\;Segoe UI Web (West European)&quot\;\, &quot\;Segoe UI&quot\;\, -apple-system\, BlinkMacSystemFont\, Roboto\, &quot\;Helvetica Neue&quot\;\, sans-serif\; font-optical-sizing: inherit\; font-kerning: inherit\; font-feature-settings: inherit\; font-variation-settings: inherit\; margin: 0px\; padding: 0px\; vertical-align: baseline\; color: rgb(36\, 36\, 36)\;">&nbsp\;</div>\n\n<div style="border: 0px\; font-variant-numeric: inherit\; font-variant-east-asian: inherit\; font-variant-alternates: inherit\; font-stretch: inherit\; font-size: 15px\; line-height: inherit\; font-family: &quot\;Segoe UI&quot\;\, &quot\;Segoe UI Web (West European)&quot\;\, &quot\;Segoe UI&quot\;\, -apple-system\, BlinkMacSystemFont\, Roboto\, &quot\;Helvetica Neue&quot\;\, sans-serif\; font-optical-sizing: inherit\; font-kerning: inherit\; font-feature-settings: inherit\; font-variation-settings: inherit\; margin: 0px\; padding: 0px\; vertical-align: baseline\; color: rgb(36\, 36\, 36)\;"><span style="font-size:14px\;">Come Learn and Taste the wonderful Vision-Supporting Tea and Ginger Cookies. We look forward to helping you learn how to support your own health.&nbsp\;</span></div>\n<br />\n<span style="font-size:14px\;"><span style="color: rgb(39\, 39\, 39)\; font-family: &quot\;Open Sans&quot\;\, sans-serif\; text-align: justify\;">We are based in Longmont\, Colorado and we see clients from all over the country who wish to take control of their health and learn how to improve their vision using a Quantum Healing approach. Using the knowledge of Microacupunture 48 taught by Dr Andy Rosenfarb\, coupled with the mind/body approach incorporated in Quantum Healing we have seen amazing vision improvement and stabilization for our clients. The Quantum Healing approach works by using holistic medicine to focus an intense burst of precise\, natural eye care on the eyes. It can set the body and the vision on a new trajectory of ultimate health and vitality that enable better sight\, living and enjoyment.</span></span>
LOCATION:1225 Ken Pratt Blvd Ste. 124\, Longmont CO
UID:e.3083.9956
SEQUENCE:3
DTSTAMP:20260422T213232Z
URL:https://members.longmontchamber.org/events/details/ribbon-cutting-holistic-eye-care-9956
END:VEVENT

END:VCALENDAR
