BEGIN:VCALENDAR
VERSION:2.0
PRODID:-//ChamberMaster//Event Calendar 2.0//EN
METHOD:PUBLISH
X-PUBLISHED-TTL:P3D
REFRESH-INTERVAL:P3D
CALSCALE:GREGORIAN
BEGIN:VEVENT
DTSTART:20240620T220000Z
DTEND:20240620T230000Z
X-MICROSOFT-CDO-ALLDAYEVENT:FALSE
SUMMARY:Ribbon Cutting | Imperial Rug Cleaning
DESCRIPTION:Join us in celebrating Imperial Rug Cleaning!\n\n\n\nAbout Imperial Rug Cleaning\n\nNEW Ownership\, New Location!\n\nMaybe you bought it traveling overseas or bought your beautiful rug locally. We look at it as a piece of art\, every one needs specialized personal care. With our intensive 8 step cleaning process we expertly treat it like our own\; don't worry if it is too big or too small. From top to bottom\, we give it the ROYAL TREATMENT\, Handwashing the Old-Fashioned way\, with 21st century expertise. From front to back\, it will be dusted\, pre-inspected\, hand washed\, dried\, and post inspected. Then it will be ready to once again take its place of beauty in your home.
X-ALT-DESC;FMTTYPE=text/html:Join us in celebrating Imperial Rug Cleaning!<br />\n<br />\n<strong>About Imperial Rug Cleaning<br />\n<em>NEW Ownership\, New Location!</em></strong>\n<div color:="" font-feature-settings:="" font-kerning:="" font-optical-sizing:="" font-variation-settings:="" helvetica="" margin:="" padding:="" segoe="" ui="" vertical-align:="" web="" west="">\n<p>Maybe you bought it traveling overseas or bought your beautiful rug locally. We look at it as a piece of art\, every one needs specialized personal care. With our intensive 8 step cleaning process we expertly treat it like our own\; don&rsquo\;t worry if it is too big or too small. From top to bottom\, we give it the ROYAL TREATMENT\, Handwashing the Old-Fashioned way\, with 21st century expertise. From front to back\, it will be dusted\, pre-inspected\, hand washed\, dried\, and post inspected. Then it will be ready to once again take its place of beauty in your home.&nbsp\;</p>\n</div>\n
LOCATION:
UID:e.3083.10135
SEQUENCE:3
DTSTAMP:20260422T075108Z
URL:https://members.longmontchamber.org/events/details/ribbon-cutting-imperial-rug-cleaning-10135
END:VEVENT

END:VCALENDAR
