BEGIN:VCALENDAR
VERSION:2.0
PRODID:-//ChamberMaster//Event Calendar 2.0//EN
METHOD:PUBLISH
X-PUBLISHED-TTL:P3D
REFRESH-INTERVAL:P3D
CALSCALE:GREGORIAN
BEGIN:VEVENT
DTSTART:20250417T220000Z
DTEND:20250417T230000Z
X-MICROSOFT-CDO-ALLDAYEVENT:FALSE
SUMMARY:Ribbon Cutting | Inside Longmont
DESCRIPTION:Join us in celebrating INSIDE LONGMONT!\n\n\n\nAbout INSIDE LONGMONT -\n\nINSIDE LONGMONT is a captivating bi-monthly magazine that informs and entertains its readers through creative storytelling\, insider perspectives\, valuable topics\, and detailed visuals. Each issue shares the stories of the people\, places\, and happenings in Longmont\, leaving readers with new insights about this wonderful Front Range community.\n\n\n\nLaunch Party catered by Georgia Boys\; beer and wine also available.
X-ALT-DESC;FMTTYPE=text/html:Join us in celebrating INSIDE LONGMONT!<br />\n<br />\n<strong>About INSIDE LONGMONT -</strong>\n<div color:="" font-feature-settings:="" font-kerning:="" font-optical-sizing:="" font-variation-settings:="" helvetica="" margin:="" padding:="" segoe="" ui="" vertical-align:="" web="" west="">\n<p><!--StartFragment--><span data-olk-copy-source="MessageBody" style="font-size: 11pt\;">INSIDE LONGMONT is a captivating bi-monthly magazine that informs and entertains its readers through creative storytelling\, insider perspectives\, valuable topics\, and detailed visuals. Each issue shares the stories of the people\, places\, and happenings in Longmont\, leaving readers with new insights about this wonderful Front Range community.<br />\n<br />\nLaunch Party catered&nbsp\;by Georgia Boys\; beer and wine also available.</span></p>\n</div>\n
LOCATION:Ribbon Cutting / Launch Party at the Times-Collaborative
UID:e.3083.12673
SEQUENCE:3
DTSTAMP:20260421T142629Z
URL:https://members.longmontchamber.org/events/details/ribbon-cutting-inside-longmont-12673
END:VEVENT

END:VCALENDAR
