BEGIN:VCALENDAR
VERSION:2.0
PRODID:-//ChamberMaster//Event Calendar 2.0//EN
METHOD:PUBLISH
X-PUBLISHED-TTL:P3D
REFRESH-INTERVAL:P3D
CALSCALE:GREGORIAN
BEGIN:VEVENT
DTSTART:20250729T220000Z
DTEND:20250729T230000Z
X-MICROSOFT-CDO-ALLDAYEVENT:FALSE
SUMMARY:Ribbon Cutting | Iris Aesthetics Center
DESCRIPTION:Iris Aesthetics Center - Come celebrate our rebrand with us!  We're marking this exciting new chapter with:  Exclusive discounts on products and services\, a raffle with exciting giveaways\, bubbly and light refreshments.\n\nWhether you're a longtime friend or new to our space\, we'd love for you to join us as we cut the ribbon and toast to what's ahead!\n\n\nAbout Iris Aesthetics Center\n\n\nThrough physician and aesthetician expertise and a compassionate approach to our patients' needs\, Iris Aesthetics is dedicated to providing the most comprehensive program in individualized skin care and laser/surgical rejuvenation techniques available today.  We provide our patients with the opportunity to look as young as they feel in a private and relaxed setting!
X-ALT-DESC;FMTTYPE=text/html:<div 1em="" color:="" data-olk-copy-source="MessageBody" font-feature-settings:="" font-kerning:="" font-optical-sizing:="" font-size-adjust:="" font-variation-settings:="" margin:="" new="" padding:="" times="" vertical-align:="">Iris Aesthetics Center - Come celebrate our rebrand with us!&nbsp\; We&#39\;re marking this exciting new chapter with:&nbsp\; <strong>Exclusive discounts</strong>&nbsp\;on products and services\, a<strong>&nbsp\;raffle</strong>&nbsp\;with exciting giveaways\, <strong>bubbly and light refreshments.</strong></div>\n\n<div 1em="" color:="" font-feature-settings:="" font-kerning:="" font-optical-sizing:="" font-size-adjust:="" font-variation-settings:="" margin:="" new="" padding:="" times="" vertical-align:="">Whether you&rsquo\;re a longtime friend or new to our space\, we&rsquo\;d love for you to join us as we cut the ribbon and toast to what&rsquo\;s ahead!</div>\n<br />\n<strong>About Iris Aesthetics Center</strong>\n\n<div color:="" font-feature-settings:="" font-kerning:="" font-optical-sizing:="" font-variation-settings:="" helvetica="" margin:="" padding:="" segoe="" ui="" vertical-align:="" web="" west="">\n<p>Through physician and aesthetician expertise and a compassionate approach to our patients&rsquo\; needs\, Iris Aesthetics is dedicated to providing the most comprehensive program in individualized skin care and laser/surgical rejuvenation techniques available today.&nbsp\; We provide our patients with the opportunity to look as young as they feel in a private and relaxed setting!</p>\n</div>\n
LOCATION:
UID:e.3083.13566
SEQUENCE:3
DTSTAMP:20260421T093827Z
URL:https://members.longmontchamber.org/events/details/ribbon-cutting-iris-aesthetics-center-13566
END:VEVENT

END:VCALENDAR
