BEGIN:VCALENDAR
VERSION:2.0
PRODID:-//ChamberMaster//Event Calendar 2.0//EN
METHOD:PUBLISH
X-PUBLISHED-TTL:P3D
REFRESH-INTERVAL:P3D
CALSCALE:GREGORIAN
BEGIN:VEVENT
DTSTART:20191217T230000Z
DTEND:20191218T000000Z
X-MICROSOFT-CDO-ALLDAYEVENT:FALSE
SUMMARY:Ribbon Cutting: Jackson Hewitt Tax Service
DESCRIPTION:Join us at a Ribbon Cutting for Jackson Hewitt Tax Service!\n\nWorking hard for the hardest working \n\nWe're not tax machines. We're Tax Pros who've seen it all\, from the simple to the complex\, and we'll dig deep to get you 100% Accuracy and the Maximum Refund\, guaranteed\, or we pay.\n\nRibbon Cuttings are a great way to celebrate our members\, network\, meet fellow Chamber Members and learn something about Longmont businesses.
X-ALT-DESC;FMTTYPE=text/html:<p>Join us at a Ribbon Cutting for Jackson Hewitt Tax Service!</p>\n\n<p><span style="color: rgb(81\, 83\, 81)\; font-family: CenturyGothic\, Arial\, Helvetica\, sans-serif\; font-size: 15px\;">Working hard for the hardest working&reg\;</span><br style="box-sizing: content-box\; bottom: auto\; clear: none\; color: rgb(81\, 83\, 81)\; content: normal\; direction: inherit\; display: inline\; empty-cells: show\; float: none\; font-variant-numeric: inherit\; font-variant-east-asian: inherit\; font-stretch: inherit\; font-size: 15px\; font-family: CenturyGothic\, Arial\, Helvetica\, sans-serif\; left: auto\; line-height: inherit\; margin: 0px\; max-height: none\; max-width: none\; min-height: initial\; min-width: initial\; opacity: 1\; outline-offset: 0px\; overflow: visible\; padding: 0px\; position: static\; resize: none\; right: auto\; table-layout: auto\; text-overflow: clip\; top: auto\; vertical-align: baseline\; visibility: inherit\; word-break: inherit\; overflow-wrap: inherit\; z-index: auto\; background-image: none\; background-position: initial\; background-size: initial\; background-repeat: initial\; background-attachment: initial\; background-origin: initial\; background-clip: initial\; border: none\; border-collapse: separate\; border-radius: 0px\; height: auto\; width: auto\;" />\n<span style="color: rgb(81\, 83\, 81)\; font-family: CenturyGothic\, Arial\, Helvetica\, sans-serif\; font-size: 15px\;">We&#39\;re not tax machines. We&#39\;re Tax Pros who&#39\;ve seen it all\,&nbsp\;from the simple to the complex\,&nbsp\;and we&#39\;ll dig deep to get you 100% Accuracy and the Maximum Refund\, guaranteed\, or we pay.</span></p>\n\n<p><span style="color: rgb(0\, 0\, 0)\; font-family: tahoma\; font-size: 14px\;">Ribbon Cuttings are a great way to celebrate our&nbsp\;members\, network\, meet fellow Chamber Members and learn something about Longmont businesses.</span></p>\n
LOCATION:1834 Main St Suite 7 Longmont\, CO 80501
UID:e.3083.7148
SEQUENCE:3
DTSTAMP:20260425T214101Z
URL:https://members.longmontchamber.org/events/details/ribbon-cutting-jackson-hewitt-tax-service-7148
END:VEVENT

END:VCALENDAR
