BEGIN:VCALENDAR
VERSION:2.0
PRODID:-//ChamberMaster//Event Calendar 2.0//EN
METHOD:PUBLISH
X-PUBLISHED-TTL:P3D
REFRESH-INTERVAL:P3D
CALSCALE:GREGORIAN
BEGIN:VEVENT
DTSTART:20230629T220000Z
DTEND:20230629T230000Z
X-MICROSOFT-CDO-ALLDAYEVENT:FALSE
SUMMARY:Ribbon Cutting | JARS Cannabis
DESCRIPTION:Join us in welcoming new member JARS Cannabis to the Longmont Chamber community!\n\n\n\nAbout JARS Cannabis\n\n\n\nJARS Cannabis is committed to providing the best quality cannabis\, with the widest variety of options at prices people can afford\, making the integration of cannabis into their lifestyle easy and accessible.\n\n\n\nOur progressive approach to product\, design\, staff\, and community is helping change the conversation about cannabis in a positive\, open way that any adult can connect with and feel good about.\n\n\n\nJARS' staff are well trained in cannabis knowledge\, from medicinal benefits and symptoms to enhancing everyday life experiences\, they genuinely care and connect with the customers they serve.
X-ALT-DESC;FMTTYPE=text/html:<br />\nJoin us in welcoming new member JARS Cannabis to the Longmont Chamber community!<br />\n<br />\n<strong>About JARS Cannabis</strong><br />\n<br />\nJARS Cannabis is committed to providing the best quality cannabis\, with the widest variety of options at prices people can afford\, making the integration of cannabis into their lifestyle easy and accessible.<br />\n<br />\nOur progressive approach to product\, design\, staff\, and community is helping change the conversation about cannabis in a positive\, open way that any adult can connect with and feel good about.<br />\n<br />\nJARS&rsquo\; staff are well trained in cannabis knowledge\, from medicinal benefits and symptoms to enhancing everyday life experiences\, they genuinely care and connect with the customers they serve.
LOCATION:
UID:e.3083.9718
SEQUENCE:3
DTSTAMP:20260423T022851Z
URL:https://members.longmontchamber.org/events/details/ribbon-cutting-jars-cannabis-9718
END:VEVENT

END:VCALENDAR
