BEGIN:VCALENDAR
VERSION:2.0
PRODID:-//ChamberMaster//Event Calendar 2.0//EN
METHOD:PUBLISH
X-PUBLISHED-TTL:P3D
REFRESH-INTERVAL:P3D
CALSCALE:GREGORIAN
BEGIN:VEVENT
DTSTART:20191204T230000Z
DTEND:20191205T000000Z
X-MICROSOFT-CDO-ALLDAYEVENT:FALSE
SUMMARY:Ribbon Cutting: Jmarie Skin Studio
DESCRIPTION:Join us at a Ribbon Cutting for Jmarie Skin Studio!\n\n\n\nI have been able to hone my skills by performing facials\, chemical peels\, micro-needling\, permanent makeup artistry\, body treatments\, platelet rich plasma\, dermaplaning\, microdermabrasion\, waxing services and injectables along with other skin care treatments. Additionally\, I work with each individual to come up with a unique healthy skin care regimen that they can easily maintain at home and keep their skin glowing and beautiful. I attribute my success to my perseverance\, dedication to continue my education\, and my passion to help women find their confidence in their bodies.\n\n\n\nRibbon Cuttings are a great way to celebrate our members\, network\, meet fellow Chamber Members and learn something about Longmont businesses.
X-ALT-DESC;FMTTYPE=text/html:<span style="font-size:14px\;"><span style="font-family:tahoma\;">Join us at a Ribbon Cutting for Jmarie Skin Studio!<br />\n<br />\n<span style="color: rgb(81\, 83\, 81)\;">I have been able to hone my skills by performing facials\, chemical peels\, micro-needling\, permanent makeup artistry\, body treatments\, platelet rich plasma\, dermaplaning\, microdermabrasion\, waxing services and injectables along with other skin care treatments. Additionally\, I work with each individual to come up with a unique healthy skin care regimen that they can easily maintain at home and keep their skin glowing and beautiful. I attribute my success to my perseverance\, dedication to continue my education\, and my passion to help women find their confidence in their bodies.</span><br />\n<br />\n<span style="color: rgb(0\, 0\, 0)\;">Ribbon Cuttings are a great way to celebrate our&nbsp\;members\, network\, meet fellow Chamber Members and learn something about Longmont businesses.</span></span></span>
LOCATION:1125 Neon Forest Circle Suite 100 Longmont\, CO 80504
UID:e.3083.7355
SEQUENCE:3
DTSTAMP:20260425T231950Z
URL:https://members.longmontchamber.org/events/details/ribbon-cutting-jmarie-skin-studio-7355
END:VEVENT

END:VCALENDAR
