BEGIN:VCALENDAR
VERSION:2.0
PRODID:-//ChamberMaster//Event Calendar 2.0//EN
METHOD:PUBLISH
X-PUBLISHED-TTL:P3D
REFRESH-INTERVAL:P3D
CALSCALE:GREGORIAN
BEGIN:VEVENT
DTSTART:20230406T220000Z
DTEND:20230406T230000Z
X-MICROSOFT-CDO-ALLDAYEVENT:FALSE
SUMMARY:Ribbon Cutting | John Robson Photography
DESCRIPTION:Join us in welcoming new member John Robson Photography to the Longmont Chamber community!\n\n\n\nAbout John Robson Photography\n\nJohn Robson is a commercial lifestyle photographer\, photographing captivating people\, organizations and businesses. His photographs offer a look into the world of those makers and shakers who put their heart and soul into their work\, from culinary artists to the tech industry. He admires a hard work ethic that creates calloused hands and the love that goes into creating a unique experience.
X-ALT-DESC;FMTTYPE=text/html:<br />\nJoin us in welcoming new member John Robson Photography to the Longmont Chamber community!<br />\n<br />\n<strong>About John Robson Photography</strong><br />\nJohn Robson is a commercial lifestyle photographer\, photographing captivating people\, organizations and businesses. His photographs offer a look into the world of those makers and shakers who put their heart and soul into their work\, from culinary artists to the tech industry. He admires a hard work ethic that creates calloused hands and the love that goes into creating a unique experience.
LOCATION:Martinis Bistro
UID:e.3083.9664
SEQUENCE:3
DTSTAMP:20260423T052454Z
URL:https://members.longmontchamber.org/events/details/ribbon-cutting-john-robson-photography-9664
END:VEVENT

END:VCALENDAR
