BEGIN:VCALENDAR
VERSION:2.0
PRODID:-//ChamberMaster//Event Calendar 2.0//EN
METHOD:PUBLISH
X-PUBLISHED-TTL:P3D
REFRESH-INTERVAL:P3D
CALSCALE:GREGORIAN
BEGIN:VEVENT
DTSTART:20240913T220000Z
DTEND:20240913T230000Z
X-MICROSOFT-CDO-ALLDAYEVENT:FALSE
SUMMARY:Ribbon Cutting | Johnson's Station Grand Opening
DESCRIPTION:Join us in celebrating Johnson's Station!\n\n\n\nAbout Johnson's Station\n\nThis Historical NoCo Monument is finally getting its BIG REVEAL! \n\nIn the heart of Longmont\, Colorado\, where the spirit of the Rockies whispers tales of adventure and open skies\, we are thrilled to announce the grand opening of Johnson's Station. Inspired by the wild\, unbridled essence of Jack Kerouac's journeys and his soulful moments at Johnson Station\, our restaurant is a sanctuary for those who seek the extraordinary in the everyday.\n\nStep into Johnson's Station and be transported to a place where the aroma of our Diesel Burger or the Nashville Hot Chicken Sandwich mingles with the echoes of laughter and the strum of a distant guitar. Our menu\, a homage to the flavors of the land\, is crafted with locally sourced ingredients and a passion for the authentic. Here\, every meal is a story\, every dish a poem\, and every gathering a celebration of life's simple\, profound pleasures. Join us and experience the warmth of camaraderie\, the joy of discovery\, and the timeless allure of a place where the journey and the destination become one.\n\nWe invite you to be part of our opening\, to share in the moments that turn into memories\, and to celebrate the spirit of adventure that lives in each of us. Welcome to Johnson's Station\, where the road always leads to a place called home.
X-ALT-DESC;FMTTYPE=text/html:Join us in celebrating Johnson&#39\;s Station!<br />\n<br />\n<strong>About Johnson&#39\;s Station</strong>\n<div color:="" font-feature-settings:="" font-kerning:="" font-optical-sizing:="" font-variation-settings:="" helvetica="" margin:="" padding:="" segoe="" ui="" vertical-align:="" web="" west="">\n<p>This Historical NoCo Monument is finally getting its BIG REVEAL!&nbsp\;</p>\n\n<p dir="ltr" font-size:="" helvetica="" line-height:="" margin-bottom:="" margin-top:="" segoe="" ui="" web="" west="">In the heart of Longmont\, Colorado\, where the spirit of the Rockies whispers tales of adventure and open skies\, we are thrilled to announce the grand opening of Johnson&rsquo\;s Station. Inspired by the wild\, unbridled essence of Jack Kerouac&rsquo\;s journeys and his soulful moments at Johnson Station\, our restaurant is a sanctuary for those who seek the extraordinary in the everyday.</p>\n\n<p dir="ltr" font-size:="" helvetica="" line-height:="" margin-bottom:="" margin-top:="" segoe="" ui="" web="" west="">Step into Johnson&rsquo\;s Station and be transported to a place where the aroma of our Diesel Burger or the Nashville Hot Chicken Sandwich mingles with the echoes of laughter and the strum of a distant guitar. Our menu\, a homage to the flavors of the land\, is crafted with locally sourced ingredients and a passion for the authentic. Here\, every meal is a story\, every dish a poem\, and every gathering a celebration of life&rsquo\;s simple\, profound pleasures. Join us and experience the warmth of camaraderie\, the joy of discovery\, and the timeless allure of a place where the journey and the destination become one.</p>\n\n<p dir="ltr" font-size:="" helvetica="" line-height:="" margin-bottom:="" margin-top:="" segoe="" ui="" web="" west="">We invite you to be part of our opening\, to share in the moments that turn into memories\, and to celebrate the spirit of adventure that lives in each of us. Welcome to Johnson&rsquo\;s Station\, where the road always leads to a place called home.</p>\n</div>\n
LOCATION:
UID:e.3083.10192
SEQUENCE:3
DTSTAMP:20260422T013753Z
URL:https://members.longmontchamber.org/events/details/ribbon-cutting-johnson-s-station-grand-opening-10192
END:VEVENT

END:VCALENDAR
